{"text_format":"1","workbook":"xlsx","n_sheets":10,"sheets":["Entête","Révisions","ResumeBatiment","Encodage","Resumé","G_Elec","G_Combustible","G_Eau","Paramètres","JBV"],"not_rendered":{"charts":27,"images":4,"macros":1,"external_links":0,"defined_names":21,"comments":2,"pivot_tables":1},"unopened":[],"bounds":{"document_bytes":16777216,"sheet_cells":100000,"rows_first":2000,"rows_last":500,"rows_between":2000,"halvings":0,"cell_chars":16384,"cell_head_chars":4096},"cells_cut":0,"cells_raw":0,"read":"whole","date_system":"1900"}

{"sheet":"Entête","index":0,"n_rows":15,"n_cols":7,"rows_kept":15,"cut":false,"hidden":false,"merged":[[28,1,28,4],[17,2,17,3],[2,1,2,3],[11,2,11,3],[13,2,13,3],[14,2,14,3],[15,2,15,3]]}
[]
[]
[]
[null,null,null,null,null,null,"                                          "]
[]
[]
[]
[]
[]
[]
[]
[null,null,"Facilitateur URE de Wallonie"]
[]
[null,null,"Outil"]
[null,null,"Modèle de cadastre énergétique"]

{"sheet":"Révisions","index":1,"n_rows":44,"n_cols":6,"rows_kept":44,"cut":false,"hidden":true,"merged":[[1,1,1,5]]}
[]
[null,"REVISIONS"]
[null,"Rév.","Date","Auteur","Objet","Pères"]
[null,0,{"$f":"Entête!C21","v":"00:00:00"},"JBV","Création"]
[null,1]
[null,2]
[null,3]
[null,4]
[null,5]
[null,6]
[null,7]
[null,8]
[null,9]
[null,10]
[null,11]
[null,12]
[null,13]
[null,14]
[null,15]
[null,16]
[null,17]
[null,18]
[null,19]
[null,20]
[null,21]
[null,22]
[null,23]
[null,24]
[null,25]
[null,26]
[null,27]
[null,28]
[null,29]
[null,30]
[null,31]
[null,32]
[null,33]
[null,34]
[null,35]
[null,36]
[null,37]
[null,38]
[null,39]
[null,40]

{"sheet":"ResumeBatiment","index":2,"n_rows":10,"n_cols":9,"rows_kept":10,"cut":false,"hidden":true,"merged":[]}
["Batiment","(Tous)"]
[]
[null,"Étiquettes de colonnes"]
["Valeurs",2010,2011,2012,2013,2014,2015,2016,2017]
["Somme de Electricité ",318905.99600000004,312719.99399999995,317661.99,316139.99200000003,0,0,0,0]
["Somme de Electricité Heures pleines",0,0,0,0,0,0,0,0]
["Somme de Electricité Heures creuses",0,0,0,0,0,0,0,0]
["Somme de Cons spéc d'électricité",244.0846845526776,239.35003762688407,243.13254800079363,241.96763772815893,0,0,0,0]
["Somme de Cons spéc d'électricité moy du secteur",100,100,100,100,100,100,100,100]
["Somme de Combustible ",1864875.6,1631164.2101999999,1787578.7999999998,1796355.96,0,0,0,0]

{"sheet":"Encodage","index":3,"n_rows":132,"n_cols":30,"rows_kept":132,"cut":false,"hidden":false,"merged":[[11,1,11,6]]}
["Encodage des données et des factures"]
[]
["Année du 1er encodage:",null,null,2013]
["Choix de degrés jours:",null,null,"16,5/16,5"]
["Secteur général:",null,null,"à encoder"]
["Nombre de bâtiments:",null,null,12]
[]
[null,"Aller à    --->",{"$f":"A13","v":2013},{"$f":"C8+1","v":2014},2015,2016,2017,2018,{"$f":"H8+1","v":2019},{"$f":"I8+1","v":2020}]
[]
[null,null,"Surface chauffée","Affectation du bâtiment","Horaires d'occupation du bâtiment","Electricité (monhoraire)","Electricité Heures pleines","Electricité Heures creuses","Usage énergétique spécifique","Energies renouvelables",{"$f":"Paramètres!$F$3","v":"gaz naturel"},{"$f":"Paramètres!$F$4","v":"gasoil"},{"$f":"Paramètres!$F$5","v":"propane"},{"$f":"Paramètres!$F$6","v":"colza"},{"$f":"Paramètres!$F$7","v":"pellets"},{"$f":"Paramètres!$F$8","v":"Autres"},"Eau","Evol conso Eau par rapport année précédente","Electricité \n(total)","Evol conso Elec par rapport année précédente","Cons spéc d'électricité","Cons spéc d'électricité moy du secteur","Combustible \n(total)","% de normali\n-sation","Combustible\n(total) \nnormalisé","Cons spéc normalisée de combustible par rapport à l'année précédente","Cons spéc \nnormalisée \nde combustible","Cons spéc chauffage moy du secteur","Cons spéc normalisée de combustible en % de l'année de réf","Potentiel d'économie de combustible"]
[null,"Nom du bâtiment ","m²",null,null,"kWh","kWh","kWh",null,null,{"$f":"Paramètres!$G$3","v":"kWh"},{"$f":"Paramètres!$G$4","v":"litre"},{"$f":"Paramètres!$G$5","v":"m³"},{"$f":"Paramètres!$G$6","v":"litre"},{"$f":"Paramètres!$G$7","v":"kg"},{"$f":"Paramètres!$G$8","v":"kWh"},"m³","%","kWh","%","kWh/m²","kWh/m²","kWh",null,"kWh","%","kWh/m²","kWhp/m²","%","kWh²/m²"]
[null,"Pour visualiser un bâtiment sur plusieurs années : sélectionner-le  avec la flèche  -->"]
[{"$f":"D3","v":2013}]
["Année","Batiment",3,4,5,7,{"$f":"G10","v":"Electricité Heures pleines"},{"$f":"H10","v":"Electricité Heures creuses"},10,{"$f":"J10","v":"Energies renouvelables"},11,12,13,14,15,16,17,18,{"$f":"S10","v":"Electricité \n(total)"},21,"Cons spéc d'électricité","Cons spéc d'électricité moy du secteur","Combustible \n(total)",null,"Combustible\n(total) \nnormalisé",22,"Cons spéc \nnormalisée \nde combustible","Cons spéc chauffage moy du secteur","Cons spéc normalisée de combustible en % de l'année de réf",{"$f":"AD10","v":"Potentiel d'économie de combustible"}]
[{"$f":"A13","v":2013},"Batiment 1",null,"A sélectionner dans la liste déroulante",null,null,null,null,"à encoder","à encoder",null,null,null,null,null,null,null,{"$f":"IFERROR(1-Q15/Q15,0)","v":0},{"$f":"IF(F15<>0,F15,G15+H15)","v":0},{"$f":"IF(S15=0,0,S15/S15-1)","v":0},{"$f":"S15/C15","v":{"$error":"#DIV/0!"}},{"$f":"VLOOKUP(D15,Paramètres!$A$15:$D$26,3)","v":0},{"$f":"K15*Paramètres!$H$3+L15*Paramètres!$H$4+Encodage!M15*Paramètres!$H$5+Encodage!N15*Paramètres!$H$6+Encodage!O15*Paramètres!$H$7+P15*Paramètres!$H$8","v":0},{"$f":"VLOOKUP(D15,Paramètres!$A$15:$E$26,5)","v":1},{"$f":"W15*(1-X15)+(W15*X15*Paramètres!$D$3/VLOOKUP(Encodage!A15,Paramètres!$A$2:$D$15,4))","v":0},{"$f":"IF(Y15=0,0,Y15/Y15-1)","v":0},{"$f":"Y15/C15","v":{"$error":"#DIV/0!"}},{"$f":"VLOOKUP(D15,Paramètres!$A$15:$D$26,2)","v":0},{"$f":"AA15/AA$15","v":{"$error":"#DIV/0!"}},{"$f":"Y15*AA15","v":{"$error":"#DIV/0!"}}]
[{"$f":"A13","v":2013},"Batiment 2",null,"A sélectionner dans la liste déroulante",null,null,null,null,"à encoder","à encoder",null,null,null,null,null,null,null,{"$f":"IFERROR(Q16/Q16-1,0)","v":0},0,{"$f":"IF(S16=0,0,S16/S16-1)","v":0},{"$error":"#DIV/0!"},{"$f":"VLOOKUP(D16,Paramètres!$A$15:$D$26,3)","v":0},{"$f":"K16*Paramètres!$H$3+L16*Paramètres!$H$4+Encodage!M16*Paramètres!$H$5+Encodage!N16*Paramètres!$H$6+Encodage!O16*Paramètres!$H$7+P16*Paramètres!$H$8","v":0},{"$f":"VLOOKUP(D16,Paramètres!$A$15:$E$26,5)","v":1},{"$f":"W16*(1-X16)+(W16*X16*Paramètres!$D$3/VLOOKUP(Encodage!A16,Paramètres!$A$2:$D$15,4))","v":0},{"$f":"IF(Y16=0,0,Y16/Y16-1)","v":0},{"$error":"#DIV/0!"},{"$f":"VLOOKUP(D16,Paramètres!$A$15:$D$26,2)","v":0},{"$f":"AA16/AA$16","v":{"$error":"#DIV/0!"}},{"$error":"#DIV/0!"}]
[{"$f":"A16","v":2013},"Batiment 3",null,"A sélectionner dans la liste déroulante",null,null,null,null,"à encoder","à encoder",null,null,null,null,null,null,null,0,0,0,{"$error":"#DIV/0!"},{"$f":"VLOOKUP(D17,Paramètres!$A$15:$D$26,3)","v":0},{"$f":"K17*Paramètres!$H$3+L17*Paramètres!$H$4+Encodage!M17*Paramètres!$H$5+Encodage!N17*Paramètres!$H$6+Encodage!O17*Paramètres!$H$7+P17*Paramètres!$H$8","v":0},{"$f":"VLOOKUP(D17,Paramètres!$A$15:$E$26,5)","v":1},{"$f":"W17*(1-X17)+(W17*X17*Paramètres!$D$3/VLOOKUP(Encodage!A17,Paramètres!$A$2:$D$15,4))","v":0},0,{"$error":"#DIV/0!"},{"$f":"VLOOKUP(D17,Paramètres!$A$15:$D$26,2)","v":0},{"$f":"AA17/AA$17","v":{"$error":"#DIV/0!"}},{"$error":"#DIV/0!"}]
[2013,"Batiment 4",null,"A sélectionner dans la liste déroulante",null,null,null,null,"à encoder","à encoder",null,null,null,null,null,null,null,0,0,0,{"$error":"#DIV/0!"},{"$f":"VLOOKUP(D18,Paramètres!$A$15:$D$26,3)","v":0},{"$f":"K18*Paramètres!$H$3+L18*Paramètres!$H$4+Encodage!M18*Paramètres!$H$5+Encodage!N18*Paramètres!$H$6+Encodage!O18*Paramètres!$H$7+P18*Paramètres!$H$8","v":0},{"$f":"VLOOKUP(D18,Paramètres!$A$15:$E$26,5)","v":1},{"$f":"W18*(1-X18)+(W18*X18*Paramètres!$D$3/VLOOKUP(Encodage!A18,Paramètres!$A$2:$D$15,4))","v":0},0,{"$error":"#DIV/0!"},{"$f":"VLOOKUP(D18,Paramètres!$A$15:$D$26,2)","v":0},{"$f":"AA18/AA$18","v":{"$error":"#DIV/0!"}},{"$error":"#DIV/0!"}]
[2013,"Batiment 5",null,"A sélectionner dans la liste déroulante",null,null,null,null,"à encoder","à encoder",null,null,null,null,null,null,null,0,0,0,{"$error":"#DIV/0!"},{"$f":"VLOOKUP(D19,Paramètres!$A$15:$D$26,3)","v":0},{"$f":"K19*Paramètres!$H$3+L19*Paramètres!$H$4+Encodage!M19*Paramètres!$H$5+Encodage!N19*Paramètres!$H$6+Encodage!O19*Paramètres!$H$7+P19*Paramètres!$H$8","v":0},{"$f":"VLOOKUP(D19,Paramètres!$A$15:$E$26,5)","v":1},{"$f":"W19*(1-X19)+(W19*X19*Paramètres!$D$3/VLOOKUP(Encodage!A19,Paramètres!$A$2:$D$15,4))","v":0},0,{"$error":"#DIV/0!"},{"$f":"VLOOKUP(D19,Paramètres!$A$15:$D$26,2)","v":0},{"$f":"AA19/AA$19","v":{"$error":"#DIV/0!"}},{"$error":"#DIV/0!"}]
[2013,"Batiment 6",null,"A sélectionner dans la liste déroulante",null,null,null,null,"à encoder","à encoder",null,null,null,null,null,null,null,0,0,0,{"$error":"#DIV/0!"},{"$f":"VLOOKUP(D20,Paramètres!$A$15:$D$26,3)","v":0},{"$f":"K20*Paramètres!$H$3+L20*Paramètres!$H$4+Encodage!M20*Paramètres!$H$5+Encodage!N20*Paramètres!$H$6+Encodage!O20*Paramètres!$H$7+P20*Paramètres!$H$8","v":0},{"$f":"VLOOKUP(D20,Paramètres!$A$15:$E$26,5)","v":1},{"$f":"W20*(1-X20)+(W20*X20*Paramètres!$D$3/VLOOKUP(Encodage!A20,Paramètres!$A$2:$D$15,4))","v":0},0,{"$error":"#DIV/0!"},{"$f":"VLOOKUP(D20,Paramètres!$A$15:$D$26,2)","v":0},{"$f":"AA20/AA$20","v":{"$error":"#DIV/0!"}},{"$error":"#DIV/0!"}]
[2013,"Batiment 7",null,"A sélectionner dans la liste déroulante",null,null,null,null,"à encoder","à encoder",null,null,null,null,null,null,null,0,0,0,{"$error":"#DIV/0!"},{"$f":"VLOOKUP(D21,Paramètres!$A$15:$D$26,3)","v":0},{"$f":"K21*Paramètres!$H$3+L21*Paramètres!$H$4+Encodage!M21*Paramètres!$H$5+Encodage!N21*Paramètres!$H$6+Encodage!O21*Paramètres!$H$7+P21*Paramètres!$H$8","v":0},{"$f":"VLOOKUP(D21,Paramètres!$A$15:$E$26,5)","v":1},{"$f":"W21*(1-X21)+(W21*X21*Paramètres!$D$3/VLOOKUP(Encodage!A21,Paramètres!$A$2:$D$15,4))","v":0},0,{"$error":"#DIV/0!"},{"$f":"VLOOKUP(D21,Paramètres!$A$15:$D$26,2)","v":0},{"$f":"AA21/AA$21","v":{"$error":"#DIV/0!"}},{"$error":"#DIV/0!"}]
[2013,"Batiment 8",null,"A sélectionner dans la liste déroulante",null,null,null,null,"à encoder","à encoder",null,null,null,null,null,null,null,0,0,0,{"$error":"#DIV/0!"},{"$f":"VLOOKUP(D22,Paramètres!$A$15:$D$26,3)","v":0},{"$f":"K22*Paramètres!$H$3+L22*Paramètres!$H$4+Encodage!M22*Paramètres!$H$5+Encodage!N22*Paramètres!$H$6+Encodage!O22*Paramètres!$H$7+P22*Paramètres!$H$8","v":0},{"$f":"VLOOKUP(D22,Paramètres!$A$15:$E$26,5)","v":1},{"$f":"W22*(1-X22)+(W22*X22*Paramètres!$D$3/VLOOKUP(Encodage!A22,Paramètres!$A$2:$D$15,4))","v":0},0,{"$error":"#DIV/0!"},{"$f":"VLOOKUP(D22,Paramètres!$A$15:$D$26,2)","v":0},{"$f":"AA22/AA$22","v":{"$error":"#DIV/0!"}},{"$error":"#DIV/0!"}]
[2013,"Batiment 9",null,"A sélectionner dans la liste déroulante",null,null,null,null,"à encoder","à encoder",null,null,null,null,null,null,null,0,0,0,{"$error":"#DIV/0!"},{"$f":"VLOOKUP(D23,Paramètres!$A$15:$D$26,3)","v":0},{"$f":"K23*Paramètres!$H$3+L23*Paramètres!$H$4+Encodage!M23*Paramètres!$H$5+Encodage!N23*Paramètres!$H$6+Encodage!O23*Paramètres!$H$7+P23*Paramètres!$H$8","v":0},{"$f":"VLOOKUP(D23,Paramètres!$A$15:$E$26,5)","v":1},{"$f":"W23*(1-X23)+(W23*X23*Paramètres!$D$3/VLOOKUP(Encodage!A23,Paramètres!$A$2:$D$15,4))","v":0},0,{"$error":"#DIV/0!"},{"$f":"VLOOKUP(D23,Paramètres!$A$15:$D$26,2)","v":0},{"$f":"AA23/AA$23","v":{"$error":"#DIV/0!"}},{"$error":"#DIV/0!"}]
[2013,"Batiment 10",null,"A sélectionner dans la liste déroulante",null,null,null,null,"à encoder","à encoder",null,null,null,null,null,null,null,0,0,0,{"$error":"#DIV/0!"},{"$f":"VLOOKUP(D24,Paramètres!$A$15:$D$26,3)","v":0},{"$f":"K24*Paramètres!$H$3+L24*Paramètres!$H$4+Encodage!M24*Paramètres!$H$5+Encodage!N24*Paramètres!$H$6+Encodage!O24*Paramètres!$H$7+P24*Paramètres!$H$8","v":0},{"$f":"VLOOKUP(D24,Paramètres!$A$15:$E$26,5)","v":1},{"$f":"W24*(1-X24)+(W24*X24*Paramètres!$D$3/VLOOKUP(Encodage!A24,Paramètres!$A$2:$D$15,4))","v":0},0,{"$error":"#DIV/0!"},{"$f":"VLOOKUP(D24,Paramètres!$A$15:$D$26,2)","v":0},{"$f":"AA24/AA$24","v":{"$error":"#DIV/0!"}},{"$error":"#DIV/0!"}]
[2013,"Batiment 11",null,"A sélectionner dans la liste déroulante",null,null,null,null,"à encoder","à encoder",null,null,null,null,null,null,null,0,0,0,{"$error":"#DIV/0!"},{"$f":"VLOOKUP(D25,Paramètres!$A$15:$D$26,3)","v":0},{"$f":"K25*Paramètres!$H$3+L25*Paramètres!$H$4+Encodage!M25*Paramètres!$H$5+Encodage!N25*Paramètres!$H$6+Encodage!O25*Paramètres!$H$7+P25*Paramètres!$H$8","v":0},{"$f":"VLOOKUP(D25,Paramètres!$A$15:$E$26,5)","v":1},{"$f":"W25*(1-X25)+(W25*X25*Paramètres!$D$3/VLOOKUP(Encodage!A25,Paramètres!$A$2:$D$15,4))","v":0},0,{"$error":"#DIV/0!"},{"$f":"VLOOKUP(D25,Paramètres!$A$15:$D$26,2)","v":0},{"$f":"AA25/AA$25","v":{"$error":"#DIV/0!"}},{"$error":"#DIV/0!"}]
[2013,"Batiment 12",null,"A sélectionner dans la liste déroulante",null,null,null,null,"à encoder","à encoder",null,null,null,null,null,null,null,0,0,0,{"$error":"#DIV/0!"},{"$f":"VLOOKUP(D26,Paramètres!$A$15:$D$26,3)","v":0},{"$f":"K26*Paramètres!$H$3+L26*Paramètres!$H$4+Encodage!M26*Paramètres!$H$5+Encodage!N26*Paramètres!$H$6+Encodage!O26*Paramètres!$H$7+P26*Paramètres!$H$8","v":0},{"$f":"VLOOKUP(D26,Paramètres!$A$15:$E$26,5)","v":1},{"$f":"W26*(1-X26)+(W26*X26*Paramètres!$D$3/VLOOKUP(Encodage!A26,Paramètres!$A$2:$D$15,4))","v":0},0,{"$error":"#DIV/0!"},{"$f":"VLOOKUP(D26,Paramètres!$A$15:$D$26,2)","v":0},{"$f":"AA26/AA$26","v":{"$error":"#DIV/0!"}},{"$error":"#DIV/0!"}]
[2013,"Total",{"$f":"SUM(C15:C26)","v":0},null,null,{"$f":"SUM(F15:F26)","v":0},{"$f":"SUM(G15:G26)","v":0},0,null,null,0,0,0,0,0,0,{"$f":"SUM(Q15:Q26)","v":0},null,{"$f":"SUM(S15:S26)","v":0},null,{"$error":"#DIV/0!"},{"$f":"VLOOKUP($D$5,Paramètres!$A$15:$D$26,3)","v":{"$error":"#N/A"}},{"$f":"SUM(W15:W26)","v":0},null,{"$f":"SUM(Y15:Y26)","v":0},null,{"$error":"#DIV/0!"},{"$f":"VLOOKUP($D$5,Paramètres!$A$15:$D$26,2)","v":{"$error":"#N/A"}},{"$f":"AA27/AA$27","v":{"$error":"#DIV/0!"}}]
[]
[{"$f":"A13+1","v":2014}]
[{"$f":"A29","v":2014},{"$f":"B15","v":"Batiment 1"},0,"A sélectionner dans la liste déroulante",0,null,null,null,{"$f":"I15","v":"à encoder"},{"$f":"J15","v":"à encoder"},null,null,null,null,null,null,null,{"$f":"IFERROR(Q30/Q15-1,0)","v":0},{"$f":"IF(F30<>0,F30,G30+H30)","v":0},{"$f":"IF(S30=0,0,S30/S15-1)","v":0},{"$f":"S30/C30","v":{"$error":"#DIV/0!"}},{"$f":"VLOOKUP(D30,Paramètres!$A$15:$D$26,3)","v":0},{"$f":"K30*Paramètres!$H$3+L30*Paramètres!$H$4+Encodage!M30*Paramètres!$H$5+Encodage!N30*Paramètres!$H$6+Encodage!O30*Paramètres!$H$7+P30*Paramètres!$H$8","v":0},{"$f":"VLOOKUP(D30,Paramètres!$A$15:$E$26,5)","v":1},{"$f":"W30*(1-X30)+(W30*X30*Paramètres!$D$3/VLOOKUP(Encodage!A30,Paramètres!$A$2:$D$15,4))","v":0},{"$f":"IF(Y30=0,0,Y30/Y15-1)","v":0},{"$f":"Y30/C30","v":{"$error":"#DIV/0!"}},{"$f":"VLOOKUP(D30,Paramètres!$A$15:$D$26,2)","v":0},{"$f":"AA30/AA$15","v":{"$error":"#DIV/0!"}},{"$f":"Y30*AA30","v":{"$error":"#DIV/0!"}}]
[{"$f":"A30","v":2014},"Batiment 2",0,"A sélectionner dans la liste déroulante",0,null,null,null,"à encoder","à encoder",null,null,null,null,null,null,null,0,0,{"$f":"IF(S31=0,0,S31/S16-1)","v":0},{"$error":"#DIV/0!"},{"$f":"VLOOKUP(D31,Paramètres!$A$15:$D$26,3)","v":0},{"$f":"K31*Paramètres!$H$3+L31*Paramètres!$H$4+Encodage!M31*Paramètres!$H$5+Encodage!N31*Paramètres!$H$6+Encodage!O31*Paramètres!$H$7+P31*Paramètres!$H$8","v":0},{"$f":"VLOOKUP(D31,Paramètres!$A$15:$E$26,5)","v":1},{"$f":"W31*(1-X31)+(W31*X31*Paramètres!$D$3/VLOOKUP(Encodage!A31,Paramètres!$A$2:$D$15,4))","v":0},{"$f":"IF(Y31=0,0,Y31/Y16-1)","v":0},{"$error":"#DIV/0!"},{"$f":"VLOOKUP(D31,Paramètres!$A$15:$D$26,2)","v":0},{"$f":"AA31/AA$16","v":{"$error":"#DIV/0!"}},{"$error":"#DIV/0!"}]
[{"$f":"A31","v":2014},"Batiment 3",0,"A sélectionner dans la liste déroulante",0,null,null,null,"à encoder","à encoder",null,null,null,null,null,null,null,0,0,0,{"$error":"#DIV/0!"},{"$f":"VLOOKUP(D32,Paramètres!$A$15:$D$26,3)","v":0},{"$f":"K32*Paramètres!$H$3+L32*Paramètres!$H$4+Encodage!M32*Paramètres!$H$5+Encodage!N32*Paramètres!$H$6+Encodage!O32*Paramètres!$H$7+P32*Paramètres!$H$8","v":0},{"$f":"VLOOKUP(D32,Paramètres!$A$15:$E$26,5)","v":1},{"$f":"W32*(1-X32)+(W32*X32*Paramètres!$D$3/VLOOKUP(Encodage!A32,Paramètres!$A$2:$D$15,4))","v":0},0,{"$error":"#DIV/0!"},{"$f":"VLOOKUP(D32,Paramètres!$A$15:$D$26,2)","v":0},{"$f":"AA32/AA$17","v":{"$error":"#DIV/0!"}},{"$error":"#DIV/0!"}]
[2014,"Batiment 4",0,"A sélectionner dans la liste déroulante",0,null,null,null,"à encoder","à encoder",null,null,null,null,null,null,null,0,0,0,{"$error":"#DIV/0!"},{"$f":"VLOOKUP(D33,Paramètres!$A$15:$D$26,3)","v":0},{"$f":"K33*Paramètres!$H$3+L33*Paramètres!$H$4+Encodage!M33*Paramètres!$H$5+Encodage!N33*Paramètres!$H$6+Encodage!O33*Paramètres!$H$7+P33*Paramètres!$H$8","v":0},{"$f":"VLOOKUP(D33,Paramètres!$A$15:$E$26,5)","v":1},{"$f":"W33*(1-X33)+(W33*X33*Paramètres!$D$3/VLOOKUP(Encodage!A33,Paramètres!$A$2:$D$15,4))","v":0},0,{"$error":"#DIV/0!"},{"$f":"VLOOKUP(D33,Paramètres!$A$15:$D$26,2)","v":0},{"$f":"AA33/AA$18","v":{"$error":"#DIV/0!"}},{"$error":"#DIV/0!"}]
[2014,"Batiment 5",0,"A sélectionner dans la liste déroulante",0,null,null,null,"à encoder","à encoder",null,null,null,null,null,null,null,0,0,0,{"$error":"#DIV/0!"},{"$f":"VLOOKUP(D34,Paramètres!$A$15:$D$26,3)","v":0},{"$f":"K34*Paramètres!$H$3+L34*Paramètres!$H$4+Encodage!M34*Paramètres!$H$5+Encodage!N34*Paramètres!$H$6+Encodage!O34*Paramètres!$H$7+P34*Paramètres!$H$8","v":0},{"$f":"VLOOKUP(D34,Paramètres!$A$15:$E$26,5)","v":1},{"$f":"W34*(1-X34)+(W34*X34*Paramètres!$D$3/VLOOKUP(Encodage!A34,Paramètres!$A$2:$D$15,4))","v":0},0,{"$error":"#DIV/0!"},{"$f":"VLOOKUP(D34,Paramètres!$A$15:$D$26,2)","v":0},{"$f":"AA34/AA$19","v":{"$error":"#DIV/0!"}},{"$error":"#DIV/0!"}]
[2014,"Batiment 6",0,"A sélectionner dans la liste déroulante",0,null,null,null,"à encoder","à encoder",null,null,null,null,null,null,null,0,0,0,{"$error":"#DIV/0!"},{"$f":"VLOOKUP(D35,Paramètres!$A$15:$D$26,3)","v":0},{"$f":"K35*Paramètres!$H$3+L35*Paramètres!$H$4+Encodage!M35*Paramètres!$H$5+Encodage!N35*Paramètres!$H$6+Encodage!O35*Paramètres!$H$7+P35*Paramètres!$H$8","v":0},{"$f":"VLOOKUP(D35,Paramètres!$A$15:$E$26,5)","v":1},{"$f":"W35*(1-X35)+(W35*X35*Paramètres!$D$3/VLOOKUP(Encodage!A35,Paramètres!$A$2:$D$15,4))","v":0},0,{"$error":"#DIV/0!"},{"$f":"VLOOKUP(D35,Paramètres!$A$15:$D$26,2)","v":0},{"$f":"AA35/AA$20","v":{"$error":"#DIV/0!"}},{"$error":"#DIV/0!"}]
[2014,"Batiment 7",0,"A sélectionner dans la liste déroulante",0,null,null,null,"à encoder","à encoder",null,null,null,null,null,null,null,0,0,0,{"$error":"#DIV/0!"},{"$f":"VLOOKUP(D36,Paramètres!$A$15:$D$26,3)","v":0},{"$f":"K36*Paramètres!$H$3+L36*Paramètres!$H$4+Encodage!M36*Paramètres!$H$5+Encodage!N36*Paramètres!$H$6+Encodage!O36*Paramètres!$H$7+P36*Paramètres!$H$8","v":0},{"$f":"VLOOKUP(D36,Paramètres!$A$15:$E$26,5)","v":1},{"$f":"W36*(1-X36)+(W36*X36*Paramètres!$D$3/VLOOKUP(Encodage!A36,Paramètres!$A$2:$D$15,4))","v":0},0,{"$error":"#DIV/0!"},{"$f":"VLOOKUP(D36,Paramètres!$A$15:$D$26,2)","v":0},{"$f":"AA36/AA$21","v":{"$error":"#DIV/0!"}},{"$error":"#DIV/0!"}]
[2014,"Batiment 8",0,"A sélectionner dans la liste déroulante",0,null,null,null,"à encoder","à encoder",null,null,null,null,null,null,null,0,0,0,{"$error":"#DIV/0!"},{"$f":"VLOOKUP(D37,Paramètres!$A$15:$D$26,3)","v":0},{"$f":"K37*Paramètres!$H$3+L37*Paramètres!$H$4+Encodage!M37*Paramètres!$H$5+Encodage!N37*Paramètres!$H$6+Encodage!O37*Paramètres!$H$7+P37*Paramètres!$H$8","v":0},{"$f":"VLOOKUP(D37,Paramètres!$A$15:$E$26,5)","v":1},{"$f":"W37*(1-X37)+(W37*X37*Paramètres!$D$3/VLOOKUP(Encodage!A37,Paramètres!$A$2:$D$15,4))","v":0},0,{"$error":"#DIV/0!"},{"$f":"VLOOKUP(D37,Paramètres!$A$15:$D$26,2)","v":0},{"$f":"AA37/AA$22","v":{"$error":"#DIV/0!"}},{"$error":"#DIV/0!"}]
[2014,"Batiment 9",0,"A sélectionner dans la liste déroulante",0,null,null,null,"à encoder","à encoder",null,null,null,null,null,null,null,0,0,0,{"$error":"#DIV/0!"},{"$f":"VLOOKUP(D38,Paramètres!$A$15:$D$26,3)","v":0},{"$f":"K38*Paramètres!$H$3+L38*Paramètres!$H$4+Encodage!M38*Paramètres!$H$5+Encodage!N38*Paramètres!$H$6+Encodage!O38*Paramètres!$H$7+P38*Paramètres!$H$8","v":0},{"$f":"VLOOKUP(D38,Paramètres!$A$15:$E$26,5)","v":1},{"$f":"W38*(1-X38)+(W38*X38*Paramètres!$D$3/VLOOKUP(Encodage!A38,Paramètres!$A$2:$D$15,4))","v":0},0,{"$error":"#DIV/0!"},{"$f":"VLOOKUP(D38,Paramètres!$A$15:$D$26,2)","v":0},{"$f":"AA38/AA$23","v":{"$error":"#DIV/0!"}},{"$error":"#DIV/0!"}]
[2014,"Batiment 10",0,"A sélectionner dans la liste déroulante",0,null,null,null,"à encoder","à encoder",null,null,null,null,null,null,null,0,0,0,{"$error":"#DIV/0!"},{"$f":"VLOOKUP(D39,Paramètres!$A$15:$D$26,3)","v":0},{"$f":"K39*Paramètres!$H$3+L39*Paramètres!$H$4+Encodage!M39*Paramètres!$H$5+Encodage!N39*Paramètres!$H$6+Encodage!O39*Paramètres!$H$7+P39*Paramètres!$H$8","v":0},{"$f":"VLOOKUP(D39,Paramètres!$A$15:$E$26,5)","v":1},{"$f":"W39*(1-X39)+(W39*X39*Paramètres!$D$3/VLOOKUP(Encodage!A39,Paramètres!$A$2:$D$15,4))","v":0},0,{"$error":"#DIV/0!"},{"$f":"VLOOKUP(D39,Paramètres!$A$15:$D$26,2)","v":0},{"$f":"AA39/AA$24","v":{"$error":"#DIV/0!"}},{"$error":"#DIV/0!"}]
[2014,"Batiment 11",0,"A sélectionner dans la liste déroulante",0,null,null,null,"à encoder","à encoder",null,null,null,null,null,null,null,0,0,0,{"$error":"#DIV/0!"},{"$f":"VLOOKUP(D40,Paramètres!$A$15:$D$26,3)","v":0},{"$f":"K40*Paramètres!$H$3+L40*Paramètres!$H$4+Encodage!M40*Paramètres!$H$5+Encodage!N40*Paramètres!$H$6+Encodage!O40*Paramètres!$H$7+P40*Paramètres!$H$8","v":0},{"$f":"VLOOKUP(D40,Paramètres!$A$15:$E$26,5)","v":1},{"$f":"W40*(1-X40)+(W40*X40*Paramètres!$D$3/VLOOKUP(Encodage!A40,Paramètres!$A$2:$D$15,4))","v":0},0,{"$error":"#DIV/0!"},{"$f":"VLOOKUP(D40,Paramètres!$A$15:$D$26,2)","v":0},{"$f":"AA40/AA$25","v":{"$error":"#DIV/0!"}},{"$error":"#DIV/0!"}]
[2014,"Batiment 12",0,"A sélectionner dans la liste déroulante",0,null,null,null,"à encoder","à encoder",null,null,null,null,null,null,null,0,0,0,{"$error":"#DIV/0!"},{"$f":"VLOOKUP(D41,Paramètres!$A$15:$D$26,3)","v":0},{"$f":"K41*Paramètres!$H$3+L41*Paramètres!$H$4+Encodage!M41*Paramètres!$H$5+Encodage!N41*Paramètres!$H$6+Encodage!O41*Paramètres!$H$7+P41*Paramètres!$H$8","v":0},{"$f":"VLOOKUP(D41,Paramètres!$A$15:$E$26,5)","v":1},{"$f":"W41*(1-X41)+(W41*X41*Paramètres!$D$3/VLOOKUP(Encodage!A41,Paramètres!$A$2:$D$15,4))","v":0},0,{"$error":"#DIV/0!"},{"$f":"VLOOKUP(D41,Paramètres!$A$15:$D$26,2)","v":0},{"$f":"AA41/AA$26","v":{"$error":"#DIV/0!"}},{"$error":"#DIV/0!"}]
[2014,"Total",{"$f":"SUM(C30:C41)","v":0},null,null,{"$f":"SUM(F30:F41)","v":0},{"$f":"SUM(G30:G41)","v":0},0,null,null,0,0,0,0,0,0,{"$f":"SUM(Q30:Q41)","v":0},null,{"$f":"SUM(S30:S41)","v":0},null,{"$error":"#DIV/0!"},{"$f":"VLOOKUP($D$5,Paramètres!$A$15:$D$26,3)","v":{"$error":"#N/A"}},{"$f":"SUM(W30:W41)","v":0},null,{"$f":"SUM(Y30:Y41)","v":0},null,{"$error":"#DIV/0!"},{"$f":"VLOOKUP($D$5,Paramètres!$A$15:$D$26,2)","v":{"$error":"#N/A"}},{"$f":"AA42/AA$27","v":{"$error":"#DIV/0!"}}]
[]
[{"$f":"A29+1","v":2015}]
[{"$f":"A44","v":2015},{"$f":"B30","v":"Batiment 1"},0,"A sélectionner dans la liste déroulante",0,null,null,null,{"$f":"I30","v":"à encoder"},{"$f":"J30","v":"à encoder"},null,null,null,null,null,null,null,{"$f":"IFERROR(Q45/Q30-1,0)","v":0},{"$f":"IF(F45<>0,F45,G45+H45)","v":0},{"$f":"IF(S45=0,0,S45/S30-1)","v":0},{"$f":"S45/C45","v":{"$error":"#DIV/0!"}},{"$f":"VLOOKUP(D45,Paramètres!$A$15:$D$26,3)","v":0},{"$f":"K45*Paramètres!$H$3+L45*Paramètres!$H$4+Encodage!M45*Paramètres!$H$5+Encodage!N45*Paramètres!$H$6+Encodage!O45*Paramètres!$H$7+P45*Paramètres!$H$8","v":0},{"$f":"VLOOKUP(D45,Paramètres!$A$15:$E$26,5)","v":1},{"$f":"W45*(1-X45)+(W45*X45*Paramètres!$D$3/VLOOKUP(Encodage!A45,Paramètres!$A$2:$D$15,4))","v":{"$error":"#DIV/0!"}},{"$f":"IF(Y45=0,0,Y45/Y30-1)","v":{"$error":"#DIV/0!"}},{"$f":"Y45/C45","v":{"$error":"#DIV/0!"}},{"$f":"VLOOKUP(D45,Paramètres!$A$15:$D$26,2)","v":0},{"$f":"AA45/AA$15","v":{"$error":"#DIV/0!"}},{"$f":"Y45*AA45","v":{"$error":"#DIV/0!"}}]
[{"$f":"A45","v":2015},"Batiment 2",0,"A sélectionner dans la liste déroulante",0,null,null,null,"à encoder","à encoder",null,null,null,null,null,null,null,0,0,{"$f":"IF(S46=0,0,S46/S31-1)","v":0},{"$error":"#DIV/0!"},{"$f":"VLOOKUP(D46,Paramètres!$A$15:$D$26,3)","v":0},{"$f":"K46*Paramètres!$H$3+L46*Paramètres!$H$4+Encodage!M46*Paramètres!$H$5+Encodage!N46*Paramètres!$H$6+Encodage!O46*Paramètres!$H$7+P46*Paramètres!$H$8","v":0},{"$f":"VLOOKUP(D46,Paramètres!$A$15:$E$26,5)","v":1},{"$f":"W46*(1-X46)+(W46*X46*Paramètres!$D$3/VLOOKUP(Encodage!A46,Paramètres!$A$2:$D$15,4))","v":{"$error":"#DIV/0!"}},{"$f":"IF(Y46=0,0,Y46/Y31-1)","v":{"$error":"#DIV/0!"}},{"$error":"#DIV/0!"},{"$f":"VLOOKUP(D46,Paramètres!$A$15:$D$26,2)","v":0},{"$f":"AA46/AA$16","v":{"$error":"#DIV/0!"}},{"$error":"#DIV/0!"}]
[{"$f":"A46","v":2015},"Batiment 3",0,"A sélectionner dans la liste déroulante",0,null,null,null,"à encoder","à encoder",null,null,null,null,null,null,null,0,0,0,{"$error":"#DIV/0!"},{"$f":"VLOOKUP(D47,Paramètres!$A$15:$D$26,3)","v":0},{"$f":"K47*Paramètres!$H$3+L47*Paramètres!$H$4+Encodage!M47*Paramètres!$H$5+Encodage!N47*Paramètres!$H$6+Encodage!O47*Paramètres!$H$7+P47*Paramètres!$H$8","v":0},{"$f":"VLOOKUP(D47,Paramètres!$A$15:$E$26,5)","v":1},{"$f":"W47*(1-X47)+(W47*X47*Paramètres!$D$3/VLOOKUP(Encodage!A47,Paramètres!$A$2:$D$15,4))","v":{"$error":"#DIV/0!"}},{"$error":"#DIV/0!"},{"$error":"#DIV/0!"},{"$f":"VLOOKUP(D47,Paramètres!$A$15:$D$26,2)","v":0},{"$f":"AA47/AA$17","v":{"$error":"#DIV/0!"}},{"$error":"#DIV/0!"}]
[2015,"Batiment 4",0,"A sélectionner dans la liste déroulante",0,null,null,null,"à encoder","à encoder",null,null,null,null,null,null,null,0,0,0,{"$error":"#DIV/0!"},{"$f":"VLOOKUP(D48,Paramètres!$A$15:$D$26,3)","v":0},{"$f":"K48*Paramètres!$H$3+L48*Paramètres!$H$4+Encodage!M48*Paramètres!$H$5+Encodage!N48*Paramètres!$H$6+Encodage!O48*Paramètres!$H$7+P48*Paramètres!$H$8","v":0},{"$f":"VLOOKUP(D48,Paramètres!$A$15:$E$26,5)","v":1},{"$f":"W48*(1-X48)+(W48*X48*Paramètres!$D$3/VLOOKUP(Encodage!A48,Paramètres!$A$2:$D$15,4))","v":{"$error":"#DIV/0!"}},{"$error":"#DIV/0!"},{"$error":"#DIV/0!"},{"$f":"VLOOKUP(D48,Paramètres!$A$15:$D$26,2)","v":0},{"$f":"AA48/AA$18","v":{"$error":"#DIV/0!"}},{"$error":"#DIV/0!"}]
[2015,"Batiment 5",0,"A sélectionner dans la liste déroulante",0,null,null,null,"à encoder","à encoder",null,null,null,null,null,null,null,0,0,0,{"$error":"#DIV/0!"},{"$f":"VLOOKUP(D49,Paramètres!$A$15:$D$26,3)","v":0},{"$f":"K49*Paramètres!$H$3+L49*Paramètres!$H$4+Encodage!M49*Paramètres!$H$5+Encodage!N49*Paramètres!$H$6+Encodage!O49*Paramètres!$H$7+P49*Paramètres!$H$8","v":0},{"$f":"VLOOKUP(D49,Paramètres!$A$15:$E$26,5)","v":1},{"$f":"W49*(1-X49)+(W49*X49*Paramètres!$D$3/VLOOKUP(Encodage!A49,Paramètres!$A$2:$D$15,4))","v":{"$error":"#DIV/0!"}},{"$error":"#DIV/0!"},{"$error":"#DIV/0!"},{"$f":"VLOOKUP(D49,Paramètres!$A$15:$D$26,2)","v":0},{"$f":"AA49/AA$19","v":{"$error":"#DIV/0!"}},{"$error":"#DIV/0!"}]
[2015,"Batiment 6",0,"A sélectionner dans la liste déroulante",0,null,null,null,"à encoder","à encoder",null,null,null,null,null,null,null,0,0,0,{"$error":"#DIV/0!"},{"$f":"VLOOKUP(D50,Paramètres!$A$15:$D$26,3)","v":0},{"$f":"K50*Paramètres!$H$3+L50*Paramètres!$H$4+Encodage!M50*Paramètres!$H$5+Encodage!N50*Paramètres!$H$6+Encodage!O50*Paramètres!$H$7+P50*Paramètres!$H$8","v":0},{"$f":"VLOOKUP(D50,Paramètres!$A$15:$E$26,5)","v":1},{"$f":"W50*(1-X50)+(W50*X50*Paramètres!$D$3/VLOOKUP(Encodage!A50,Paramètres!$A$2:$D$15,4))","v":{"$error":"#DIV/0!"}},{"$error":"#DIV/0!"},{"$error":"#DIV/0!"},{"$f":"VLOOKUP(D50,Paramètres!$A$15:$D$26,2)","v":0},{"$f":"AA50/AA$20","v":{"$error":"#DIV/0!"}},{"$error":"#DIV/0!"}]
[2015,"Batiment 7",0,"A sélectionner dans la liste déroulante",0,null,null,null,"à encoder","à encoder",null,null,null,null,null,null,null,0,0,0,{"$error":"#DIV/0!"},{"$f":"VLOOKUP(D51,Paramètres!$A$15:$D$26,3)","v":0},{"$f":"K51*Paramètres!$H$3+L51*Paramètres!$H$4+Encodage!M51*Paramètres!$H$5+Encodage!N51*Paramètres!$H$6+Encodage!O51*Paramètres!$H$7+P51*Paramètres!$H$8","v":0},{"$f":"VLOOKUP(D51,Paramètres!$A$15:$E$26,5)","v":1},{"$f":"W51*(1-X51)+(W51*X51*Paramètres!$D$3/VLOOKUP(Encodage!A51,Paramètres!$A$2:$D$15,4))","v":{"$error":"#DIV/0!"}},{"$error":"#DIV/0!"},{"$error":"#DIV/0!"},{"$f":"VLOOKUP(D51,Paramètres!$A$15:$D$26,2)","v":0},{"$f":"AA51/AA$21","v":{"$error":"#DIV/0!"}},{"$error":"#DIV/0!"}]
[2015,"Batiment 8",0,"A sélectionner dans la liste déroulante",0,null,null,null,"à encoder","à encoder",null,null,null,null,null,null,null,0,0,0,{"$error":"#DIV/0!"},{"$f":"VLOOKUP(D52,Paramètres!$A$15:$D$26,3)","v":0},{"$f":"K52*Paramètres!$H$3+L52*Paramètres!$H$4+Encodage!M52*Paramètres!$H$5+Encodage!N52*Paramètres!$H$6+Encodage!O52*Paramètres!$H$7+P52*Paramètres!$H$8","v":0},{"$f":"VLOOKUP(D52,Paramètres!$A$15:$E$26,5)","v":1},{"$f":"W52*(1-X52)+(W52*X52*Paramètres!$D$3/VLOOKUP(Encodage!A52,Paramètres!$A$2:$D$15,4))","v":{"$error":"#DIV/0!"}},{"$error":"#DIV/0!"},{"$error":"#DIV/0!"},{"$f":"VLOOKUP(D52,Paramètres!$A$15:$D$26,2)","v":0},{"$f":"AA52/AA$22","v":{"$error":"#DIV/0!"}},{"$error":"#DIV/0!"}]
[2015,"Batiment 9",0,"A sélectionner dans la liste déroulante",0,null,null,null,"à encoder","à encoder",null,null,null,null,null,null,null,0,0,0,{"$error":"#DIV/0!"},{"$f":"VLOOKUP(D53,Paramètres!$A$15:$D$26,3)","v":0},{"$f":"K53*Paramètres!$H$3+L53*Paramètres!$H$4+Encodage!M53*Paramètres!$H$5+Encodage!N53*Paramètres!$H$6+Encodage!O53*Paramètres!$H$7+P53*Paramètres!$H$8","v":0},{"$f":"VLOOKUP(D53,Paramètres!$A$15:$E$26,5)","v":1},{"$f":"W53*(1-X53)+(W53*X53*Paramètres!$D$3/VLOOKUP(Encodage!A53,Paramètres!$A$2:$D$15,4))","v":{"$error":"#DIV/0!"}},{"$error":"#DIV/0!"},{"$error":"#DIV/0!"},{"$f":"VLOOKUP(D53,Paramètres!$A$15:$D$26,2)","v":0},{"$f":"AA53/AA$23","v":{"$error":"#DIV/0!"}},{"$error":"#DIV/0!"}]
[2015,"Batiment 10",0,"A sélectionner dans la liste déroulante",0,null,null,null,"à encoder","à encoder",null,null,null,null,null,null,null,0,0,0,{"$error":"#DIV/0!"},{"$f":"VLOOKUP(D54,Paramètres!$A$15:$D$26,3)","v":0},{"$f":"K54*Paramètres!$H$3+L54*Paramètres!$H$4+Encodage!M54*Paramètres!$H$5+Encodage!N54*Paramètres!$H$6+Encodage!O54*Paramètres!$H$7+P54*Paramètres!$H$8","v":0},{"$f":"VLOOKUP(D54,Paramètres!$A$15:$E$26,5)","v":1},{"$f":"W54*(1-X54)+(W54*X54*Paramètres!$D$3/VLOOKUP(Encodage!A54,Paramètres!$A$2:$D$15,4))","v":{"$error":"#DIV/0!"}},{"$error":"#DIV/0!"},{"$error":"#DIV/0!"},{"$f":"VLOOKUP(D54,Paramètres!$A$15:$D$26,2)","v":0},{"$f":"AA54/AA$24","v":{"$error":"#DIV/0!"}},{"$error":"#DIV/0!"}]
[2015,"Batiment 11",0,"A sélectionner dans la liste déroulante",0,null,null,null,"à encoder","à encoder",null,null,null,null,null,null,null,0,0,0,{"$error":"#DIV/0!"},{"$f":"VLOOKUP(D55,Paramètres!$A$15:$D$26,3)","v":0},{"$f":"K55*Paramètres!$H$3+L55*Paramètres!$H$4+Encodage!M55*Paramètres!$H$5+Encodage!N55*Paramètres!$H$6+Encodage!O55*Paramètres!$H$7+P55*Paramètres!$H$8","v":0},{"$f":"VLOOKUP(D55,Paramètres!$A$15:$E$26,5)","v":1},{"$f":"W55*(1-X55)+(W55*X55*Paramètres!$D$3/VLOOKUP(Encodage!A55,Paramètres!$A$2:$D$15,4))","v":{"$error":"#DIV/0!"}},{"$error":"#DIV/0!"},{"$error":"#DIV/0!"},{"$f":"VLOOKUP(D55,Paramètres!$A$15:$D$26,2)","v":0},{"$f":"AA55/AA$25","v":{"$error":"#DIV/0!"}},{"$error":"#DIV/0!"}]
[2015,"Batiment 12",0,"A sélectionner dans la liste déroulante",0,null,null,null,"à encoder","à encoder",null,null,null,null,null,null,null,0,0,0,{"$error":"#DIV/0!"},{"$f":"VLOOKUP(D56,Paramètres!$A$15:$D$26,3)","v":0},{"$f":"K56*Paramètres!$H$3+L56*Paramètres!$H$4+Encodage!M56*Paramètres!$H$5+Encodage!N56*Paramètres!$H$6+Encodage!O56*Paramètres!$H$7+P56*Paramètres!$H$8","v":0},{"$f":"VLOOKUP(D56,Paramètres!$A$15:$E$26,5)","v":1},{"$f":"W56*(1-X56)+(W56*X56*Paramètres!$D$3/VLOOKUP(Encodage!A56,Paramètres!$A$2:$D$15,4))","v":{"$error":"#DIV/0!"}},{"$error":"#DIV/0!"},{"$error":"#DIV/0!"},{"$f":"VLOOKUP(D56,Paramètres!$A$15:$D$26,2)","v":0},{"$f":"AA56/AA$26","v":{"$error":"#DIV/0!"}},{"$error":"#DIV/0!"}]
[2015,"Total",{"$f":"SUM(C45:C56)","v":0},null,null,{"$f":"SUM(F45:F56)","v":0},{"$f":"SUM(G45:G56)","v":0},{"$f":"SUM(H45:H56)","v":0},null,null,{"$f":"SUM(K45:K56)","v":0},0,0,0,0,0,0,null,{"$f":"SUM(S45:S56)","v":0},null,{"$error":"#DIV/0!"},{"$f":"VLOOKUP($D$5,Paramètres!$A$15:$D$26,3)","v":{"$error":"#N/A"}},{"$f":"SUM(W45:W56)","v":0},null,{"$f":"SUM(Y45:Y56)","v":{"$error":"#DIV/0!"}},null,{"$error":"#DIV/0!"},{"$f":"VLOOKUP($D$5,Paramètres!$A$15:$D$26,2)","v":{"$error":"#N/A"}},{"$f":"AA57/AA$27","v":{"$error":"#DIV/0!"}}]
[]
[{"$f":"A44+1","v":2016}]
[{"$f":"A59","v":2016},{"$f":"B45","v":"Batiment 1"},0,"A sélectionner dans la liste déroulante",0,null,null,null,{"$f":"I45","v":"à encoder"},{"$f":"J45","v":"à encoder"},null,null,null,null,null,null,null,{"$f":"IFERROR(Q60/Q45-1,0)","v":0},{"$f":"IF(F60<>0,F60,G60+H60)","v":0},{"$f":"IF(S60=0,0,S60/S45-1)","v":0},{"$f":"S60/C60","v":{"$error":"#DIV/0!"}},{"$f":"VLOOKUP(D60,Paramètres!$A$15:$D$26,3)","v":0},{"$f":"K60*Paramètres!$H$3+L60*Paramètres!$H$4+Encodage!M60*Paramètres!$H$5+Encodage!N60*Paramètres!$H$6+Encodage!O60*Paramètres!$H$7+P60*Paramètres!$H$8","v":0},{"$f":"VLOOKUP(D60,Paramètres!$A$15:$E$26,5)","v":1},{"$f":"W60*(1-X60)+(W60*X60*Paramètres!$D$3/VLOOKUP(Encodage!A60,Paramètres!$A$2:$D$15,4))","v":{"$error":"#DIV/0!"}},{"$f":"IF(Y60=0,0,Y60/Y45-1)","v":{"$error":"#DIV/0!"}},{"$f":"Y60/C60","v":{"$error":"#DIV/0!"}},{"$f":"VLOOKUP(D60,Paramètres!$A$15:$D$26,2)","v":0},{"$f":"AA60/AA$15","v":{"$error":"#DIV/0!"}},{"$f":"Y60*AA60","v":{"$error":"#DIV/0!"}}]
[{"$f":"A60","v":2016},"Batiment 2",0,"A sélectionner dans la liste déroulante",0,null,null,null,"à encoder","à encoder",null,null,null,null,null,null,null,0,0,{"$f":"IF(S61=0,0,S61/S46-1)","v":0},{"$error":"#DIV/0!"},{"$f":"VLOOKUP(D61,Paramètres!$A$15:$D$26,3)","v":0},{"$f":"K61*Paramètres!$H$3+L61*Paramètres!$H$4+Encodage!M61*Paramètres!$H$5+Encodage!N61*Paramètres!$H$6+Encodage!O61*Paramètres!$H$7+P61*Paramètres!$H$8","v":0},{"$f":"VLOOKUP(D61,Paramètres!$A$15:$E$26,5)","v":1},{"$f":"W61*(1-X61)+(W61*X61*Paramètres!$D$3/VLOOKUP(Encodage!A61,Paramètres!$A$2:$D$15,4))","v":{"$error":"#DIV/0!"}},{"$f":"IF(Y61=0,0,Y61/Y46-1)","v":{"$error":"#DIV/0!"}},{"$error":"#DIV/0!"},{"$f":"VLOOKUP(D61,Paramètres!$A$15:$D$26,2)","v":0},{"$f":"AA61/AA$16","v":{"$error":"#DIV/0!"}},{"$error":"#DIV/0!"}]
[{"$f":"A61","v":2016},"Batiment 3",0,"A sélectionner dans la liste déroulante",0,null,null,null,"à encoder","à encoder",null,null,null,null,null,null,null,0,0,0,{"$error":"#DIV/0!"},{"$f":"VLOOKUP(D62,Paramètres!$A$15:$D$26,3)","v":0},{"$f":"K62*Paramètres!$H$3+L62*Paramètres!$H$4+Encodage!M62*Paramètres!$H$5+Encodage!N62*Paramètres!$H$6+Encodage!O62*Paramètres!$H$7+P62*Paramètres!$H$8","v":0},{"$f":"VLOOKUP(D62,Paramètres!$A$15:$E$26,5)","v":1},{"$f":"W62*(1-X62)+(W62*X62*Paramètres!$D$3/VLOOKUP(Encodage!A62,Paramètres!$A$2:$D$15,4))","v":{"$error":"#DIV/0!"}},{"$error":"#DIV/0!"},{"$error":"#DIV/0!"},{"$f":"VLOOKUP(D62,Paramètres!$A$15:$D$26,2)","v":0},{"$f":"AA62/AA$17","v":{"$error":"#DIV/0!"}},{"$error":"#DIV/0!"}]
[2016,"Batiment 4",0,"A sélectionner dans la liste déroulante",0,null,null,null,"à encoder","à encoder",null,null,null,null,null,null,null,0,0,0,{"$error":"#DIV/0!"},{"$f":"VLOOKUP(D63,Paramètres!$A$15:$D$26,3)","v":0},{"$f":"K63*Paramètres!$H$3+L63*Paramètres!$H$4+Encodage!M63*Paramètres!$H$5+Encodage!N63*Paramètres!$H$6+Encodage!O63*Paramètres!$H$7+P63*Paramètres!$H$8","v":0},{"$f":"VLOOKUP(D63,Paramètres!$A$15:$E$26,5)","v":1},{"$f":"W63*(1-X63)+(W63*X63*Paramètres!$D$3/VLOOKUP(Encodage!A63,Paramètres!$A$2:$D$15,4))","v":{"$error":"#DIV/0!"}},{"$error":"#DIV/0!"},{"$error":"#DIV/0!"},{"$f":"VLOOKUP(D63,Paramètres!$A$15:$D$26,2)","v":0},{"$f":"AA63/AA$18","v":{"$error":"#DIV/0!"}},{"$error":"#DIV/0!"}]
[2016,"Batiment 5",0,"A sélectionner dans la liste déroulante",0,null,null,null,"à encoder","à encoder",null,null,null,null,null,null,null,0,0,0,{"$error":"#DIV/0!"},{"$f":"VLOOKUP(D64,Paramètres!$A$15:$D$26,3)","v":0},{"$f":"K64*Paramètres!$H$3+L64*Paramètres!$H$4+Encodage!M64*Paramètres!$H$5+Encodage!N64*Paramètres!$H$6+Encodage!O64*Paramètres!$H$7+P64*Paramètres!$H$8","v":0},{"$f":"VLOOKUP(D64,Paramètres!$A$15:$E$26,5)","v":1},{"$f":"W64*(1-X64)+(W64*X64*Paramètres!$D$3/VLOOKUP(Encodage!A64,Paramètres!$A$2:$D$15,4))","v":{"$error":"#DIV/0!"}},{"$error":"#DIV/0!"},{"$error":"#DIV/0!"},{"$f":"VLOOKUP(D64,Paramètres!$A$15:$D$26,2)","v":0},{"$f":"AA64/AA$19","v":{"$error":"#DIV/0!"}},{"$error":"#DIV/0!"}]
[2016,"Batiment 6",0,"A sélectionner dans la liste déroulante",0,null,null,null,"à encoder","à encoder",null,null,null,null,null,null,null,0,0,0,{"$error":"#DIV/0!"},{"$f":"VLOOKUP(D65,Paramètres!$A$15:$D$26,3)","v":0},{"$f":"K65*Paramètres!$H$3+L65*Paramètres!$H$4+Encodage!M65*Paramètres!$H$5+Encodage!N65*Paramètres!$H$6+Encodage!O65*Paramètres!$H$7+P65*Paramètres!$H$8","v":0},{"$f":"VLOOKUP(D65,Paramètres!$A$15:$E$26,5)","v":1},{"$f":"W65*(1-X65)+(W65*X65*Paramètres!$D$3/VLOOKUP(Encodage!A65,Paramètres!$A$2:$D$15,4))","v":{"$error":"#DIV/0!"}},{"$error":"#DIV/0!"},{"$error":"#DIV/0!"},{"$f":"VLOOKUP(D65,Paramètres!$A$15:$D$26,2)","v":0},{"$f":"AA65/AA$20","v":{"$error":"#DIV/0!"}},{"$error":"#DIV/0!"}]
[2016,"Batiment 7",0,"A sélectionner dans la liste déroulante",0,null,null,null,"à encoder","à encoder",null,null,null,null,null,null,null,0,0,0,{"$error":"#DIV/0!"},{"$f":"VLOOKUP(D66,Paramètres!$A$15:$D$26,3)","v":0},{"$f":"K66*Paramètres!$H$3+L66*Paramètres!$H$4+Encodage!M66*Paramètres!$H$5+Encodage!N66*Paramètres!$H$6+Encodage!O66*Paramètres!$H$7+P66*Paramètres!$H$8","v":0},{"$f":"VLOOKUP(D66,Paramètres!$A$15:$E$26,5)","v":1},{"$f":"W66*(1-X66)+(W66*X66*Paramètres!$D$3/VLOOKUP(Encodage!A66,Paramètres!$A$2:$D$15,4))","v":{"$error":"#DIV/0!"}},{"$error":"#DIV/0!"},{"$error":"#DIV/0!"},{"$f":"VLOOKUP(D66,Paramètres!$A$15:$D$26,2)","v":0},{"$f":"AA66/AA$21","v":{"$error":"#DIV/0!"}},{"$error":"#DIV/0!"}]
[2016,"Batiment 8",0,"A sélectionner dans la liste déroulante",0,null,null,null,"à encoder","à encoder",null,null,null,null,null,null,null,0,0,0,{"$error":"#DIV/0!"},{"$f":"VLOOKUP(D67,Paramètres!$A$15:$D$26,3)","v":0},{"$f":"K67*Paramètres!$H$3+L67*Paramètres!$H$4+Encodage!M67*Paramètres!$H$5+Encodage!N67*Paramètres!$H$6+Encodage!O67*Paramètres!$H$7+P67*Paramètres!$H$8","v":0},{"$f":"VLOOKUP(D67,Paramètres!$A$15:$E$26,5)","v":1},{"$f":"W67*(1-X67)+(W67*X67*Paramètres!$D$3/VLOOKUP(Encodage!A67,Paramètres!$A$2:$D$15,4))","v":{"$error":"#DIV/0!"}},{"$error":"#DIV/0!"},{"$error":"#DIV/0!"},{"$f":"VLOOKUP(D67,Paramètres!$A$15:$D$26,2)","v":0},{"$f":"AA67/AA$22","v":{"$error":"#DIV/0!"}},{"$error":"#DIV/0!"}]
[2016,"Batiment 9",0,"A sélectionner dans la liste déroulante",0,null,null,null,"à encoder","à encoder",null,null,null,null,null,null,null,0,0,0,{"$error":"#DIV/0!"},{"$f":"VLOOKUP(D68,Paramètres!$A$15:$D$26,3)","v":0},{"$f":"K68*Paramètres!$H$3+L68*Paramètres!$H$4+Encodage!M68*Paramètres!$H$5+Encodage!N68*Paramètres!$H$6+Encodage!O68*Paramètres!$H$7+P68*Paramètres!$H$8","v":0},{"$f":"VLOOKUP(D68,Paramètres!$A$15:$E$26,5)","v":1},{"$f":"W68*(1-X68)+(W68*X68*Paramètres!$D$3/VLOOKUP(Encodage!A68,Paramètres!$A$2:$D$15,4))","v":{"$error":"#DIV/0!"}},{"$error":"#DIV/0!"},{"$error":"#DIV/0!"},{"$f":"VLOOKUP(D68,Paramètres!$A$15:$D$26,2)","v":0},{"$f":"AA68/AA$23","v":{"$error":"#DIV/0!"}},{"$error":"#DIV/0!"}]
[2016,"Batiment 10",0,"A sélectionner dans la liste déroulante",0,null,null,null,"à encoder","à encoder",null,null,null,null,null,null,null,0,0,0,{"$error":"#DIV/0!"},{"$f":"VLOOKUP(D69,Paramètres!$A$15:$D$26,3)","v":0},{"$f":"K69*Paramètres!$H$3+L69*Paramètres!$H$4+Encodage!M69*Paramètres!$H$5+Encodage!N69*Paramètres!$H$6+Encodage!O69*Paramètres!$H$7+P69*Paramètres!$H$8","v":0},{"$f":"VLOOKUP(D69,Paramètres!$A$15:$E$26,5)","v":1},{"$f":"W69*(1-X69)+(W69*X69*Paramètres!$D$3/VLOOKUP(Encodage!A69,Paramètres!$A$2:$D$15,4))","v":{"$error":"#DIV/0!"}},{"$error":"#DIV/0!"},{"$error":"#DIV/0!"},{"$f":"VLOOKUP(D69,Paramètres!$A$15:$D$26,2)","v":0},{"$f":"AA69/AA$24","v":{"$error":"#DIV/0!"}},{"$error":"#DIV/0!"}]
[2016,"Batiment 11",0,"A sélectionner dans la liste déroulante",0,null,null,null,"à encoder","à encoder",null,null,null,null,null,null,null,0,0,0,{"$error":"#DIV/0!"},{"$f":"VLOOKUP(D70,Paramètres!$A$15:$D$26,3)","v":0},{"$f":"K70*Paramètres!$H$3+L70*Paramètres!$H$4+Encodage!M70*Paramètres!$H$5+Encodage!N70*Paramètres!$H$6+Encodage!O70*Paramètres!$H$7+P70*Paramètres!$H$8","v":0},{"$f":"VLOOKUP(D70,Paramètres!$A$15:$E$26,5)","v":1},{"$f":"W70*(1-X70)+(W70*X70*Paramètres!$D$3/VLOOKUP(Encodage!A70,Paramètres!$A$2:$D$15,4))","v":{"$error":"#DIV/0!"}},{"$error":"#DIV/0!"},{"$error":"#DIV/0!"},{"$f":"VLOOKUP(D70,Paramètres!$A$15:$D$26,2)","v":0},{"$f":"AA70/AA$25","v":{"$error":"#DIV/0!"}},{"$error":"#DIV/0!"}]
[2016,"Batiment 12",0,"A sélectionner dans la liste déroulante",0,null,null,null,"à encoder","à encoder",null,null,null,null,null,null,null,0,0,0,{"$error":"#DIV/0!"},{"$f":"VLOOKUP(D71,Paramètres!$A$15:$D$26,3)","v":0},{"$f":"K71*Paramètres!$H$3+L71*Paramètres!$H$4+Encodage!M71*Paramètres!$H$5+Encodage!N71*Paramètres!$H$6+Encodage!O71*Paramètres!$H$7+P71*Paramètres!$H$8","v":0},{"$f":"VLOOKUP(D71,Paramètres!$A$15:$E$26,5)","v":1},{"$f":"W71*(1-X71)+(W71*X71*Paramètres!$D$3/VLOOKUP(Encodage!A71,Paramètres!$A$2:$D$15,4))","v":{"$error":"#DIV/0!"}},{"$error":"#DIV/0!"},{"$error":"#DIV/0!"},{"$f":"VLOOKUP(D71,Paramètres!$A$15:$D$26,2)","v":0},{"$f":"AA71/AA$26","v":{"$error":"#DIV/0!"}},{"$error":"#DIV/0!"}]
[2016,"Total",{"$f":"SUM(C60:C71)","v":0},null,null,{"$f":"SUM(F60:F71)","v":0},{"$f":"SUM(G60:G71)","v":0},{"$f":"SUM(H60:H71)","v":0},null,null,{"$f":"SUM(K60:K71)","v":0},0,0,0,0,0,0,null,{"$f":"SUM(S60:S71)","v":0},null,{"$error":"#DIV/0!"},{"$f":"VLOOKUP($D$5,Paramètres!$A$15:$D$26,3)","v":{"$error":"#N/A"}},{"$f":"SUM(W60:W71)","v":0},null,{"$f":"SUM(Y60:Y71)","v":{"$error":"#DIV/0!"}},null,{"$error":"#DIV/0!"},{"$f":"VLOOKUP($D$5,Paramètres!$A$15:$D$26,2)","v":{"$error":"#N/A"}},{"$f":"AA72/AA$27","v":{"$error":"#DIV/0!"}}]
[]
[{"$f":"A59+1","v":2017}]
[{"$f":"A74","v":2017},{"$f":"B60","v":"Batiment 1"},0,"A sélectionner dans la liste déroulante",0,null,null,null,{"$f":"I60","v":"à encoder"},{"$f":"J60","v":"à encoder"},null,null,null,null,null,null,null,{"$f":"IFERROR(Q75/Q60-1,0)","v":0},{"$f":"IF(F75<>0,F75,G75+H75)","v":0},{"$f":"IF(S75=0,0,S75/S60-1)","v":0},{"$f":"S75/C75","v":{"$error":"#DIV/0!"}},{"$f":"VLOOKUP(D75,Paramètres!$A$15:$D$26,3)","v":0},{"$f":"K75*Paramètres!$H$3+L75*Paramètres!$H$4+Encodage!M75*Paramètres!$H$5+Encodage!N75*Paramètres!$H$6+Encodage!O75*Paramètres!$H$7+P75*Paramètres!$H$8","v":0},{"$f":"VLOOKUP(D75,Paramètres!$A$15:$E$26,5)","v":1},{"$f":"W75*(1-X75)+(W75*X75*Paramètres!$D$3/VLOOKUP(Encodage!A75,Paramètres!$A$2:$D$15,4))","v":{"$error":"#DIV/0!"}},{"$f":"IF(Y75=0,0,Y75/Y60-1)","v":{"$error":"#DIV/0!"}},{"$f":"Y75/C75","v":{"$error":"#DIV/0!"}},{"$f":"VLOOKUP(D75,Paramètres!$A$15:$D$26,2)","v":0},{"$f":"AA75/AA$15","v":{"$error":"#DIV/0!"}},{"$f":"Y75*AA75","v":{"$error":"#DIV/0!"}}]
[{"$f":"A75","v":2017},"Batiment 2",0,"A sélectionner dans la liste déroulante",0,null,null,null,"à encoder","à encoder",null,null,null,null,null,null,null,0,0,{"$f":"IF(S76=0,0,S76/S61-1)","v":0},{"$error":"#DIV/0!"},{"$f":"VLOOKUP(D76,Paramètres!$A$15:$D$26,3)","v":0},{"$f":"K76*Paramètres!$H$3+L76*Paramètres!$H$4+Encodage!M76*Paramètres!$H$5+Encodage!N76*Paramètres!$H$6+Encodage!O76*Paramètres!$H$7+P76*Paramètres!$H$8","v":0},{"$f":"VLOOKUP(D76,Paramètres!$A$15:$E$26,5)","v":1},{"$f":"W76*(1-X76)+(W76*X76*Paramètres!$D$3/VLOOKUP(Encodage!A76,Paramètres!$A$2:$D$15,4))","v":{"$error":"#DIV/0!"}},{"$f":"IF(Y76=0,0,Y76/Y61-1)","v":{"$error":"#DIV/0!"}},{"$error":"#DIV/0!"},{"$f":"VLOOKUP(D76,Paramètres!$A$15:$D$26,2)","v":0},{"$f":"AA76/AA$16","v":{"$error":"#DIV/0!"}},{"$error":"#DIV/0!"}]
[{"$f":"A76","v":2017},"Batiment 3",0,"A sélectionner dans la liste déroulante",0,null,null,null,"à encoder","à encoder",null,null,null,null,null,null,null,0,0,0,{"$error":"#DIV/0!"},{"$f":"VLOOKUP(D77,Paramètres!$A$15:$D$26,3)","v":0},{"$f":"K77*Paramètres!$H$3+L77*Paramètres!$H$4+Encodage!M77*Paramètres!$H$5+Encodage!N77*Paramètres!$H$6+Encodage!O77*Paramètres!$H$7+P77*Paramètres!$H$8","v":0},{"$f":"VLOOKUP(D77,Paramètres!$A$15:$E$26,5)","v":1},{"$f":"W77*(1-X77)+(W77*X77*Paramètres!$D$3/VLOOKUP(Encodage!A77,Paramètres!$A$2:$D$15,4))","v":{"$error":"#DIV/0!"}},{"$error":"#DIV/0!"},{"$error":"#DIV/0!"},{"$f":"VLOOKUP(D77,Paramètres!$A$15:$D$26,2)","v":0},{"$f":"AA77/AA$17","v":{"$error":"#DIV/0!"}},{"$error":"#DIV/0!"}]
[2017,"Batiment 4",0,"A sélectionner dans la liste déroulante",0,null,null,null,"à encoder","à encoder",null,null,null,null,null,null,null,0,0,0,{"$error":"#DIV/0!"},{"$f":"VLOOKUP(D78,Paramètres!$A$15:$D$26,3)","v":0},{"$f":"K78*Paramètres!$H$3+L78*Paramètres!$H$4+Encodage!M78*Paramètres!$H$5+Encodage!N78*Paramètres!$H$6+Encodage!O78*Paramètres!$H$7+P78*Paramètres!$H$8","v":0},{"$f":"VLOOKUP(D78,Paramètres!$A$15:$E$26,5)","v":1},{"$f":"W78*(1-X78)+(W78*X78*Paramètres!$D$3/VLOOKUP(Encodage!A78,Paramètres!$A$2:$D$15,4))","v":{"$error":"#DIV/0!"}},{"$error":"#DIV/0!"},{"$error":"#DIV/0!"},{"$f":"VLOOKUP(D78,Paramètres!$A$15:$D$26,2)","v":0},{"$f":"AA78/AA$18","v":{"$error":"#DIV/0!"}},{"$error":"#DIV/0!"}]
[2017,"Batiment 5",0,"A sélectionner dans la liste déroulante",0,null,null,null,"à encoder","à encoder",null,null,null,null,null,null,null,0,0,0,{"$error":"#DIV/0!"},{"$f":"VLOOKUP(D79,Paramètres!$A$15:$D$26,3)","v":0},{"$f":"K79*Paramètres!$H$3+L79*Paramètres!$H$4+Encodage!M79*Paramètres!$H$5+Encodage!N79*Paramètres!$H$6+Encodage!O79*Paramètres!$H$7+P79*Paramètres!$H$8","v":0},{"$f":"VLOOKUP(D79,Paramètres!$A$15:$E$26,5)","v":1},{"$f":"W79*(1-X79)+(W79*X79*Paramètres!$D$3/VLOOKUP(Encodage!A79,Paramètres!$A$2:$D$15,4))","v":{"$error":"#DIV/0!"}},{"$error":"#DIV/0!"},{"$error":"#DIV/0!"},{"$f":"VLOOKUP(D79,Paramètres!$A$15:$D$26,2)","v":0},{"$f":"AA79/AA$19","v":{"$error":"#DIV/0!"}},{"$error":"#DIV/0!"}]
[2017,"Batiment 6",0,"A sélectionner dans la liste déroulante",0,null,null,null,"à encoder","à encoder",null,null,null,null,null,null,null,0,0,0,{"$error":"#DIV/0!"},{"$f":"VLOOKUP(D80,Paramètres!$A$15:$D$26,3)","v":0},{"$f":"K80*Paramètres!$H$3+L80*Paramètres!$H$4+Encodage!M80*Paramètres!$H$5+Encodage!N80*Paramètres!$H$6+Encodage!O80*Paramètres!$H$7+P80*Paramètres!$H$8","v":0},{"$f":"VLOOKUP(D80,Paramètres!$A$15:$E$26,5)","v":1},{"$f":"W80*(1-X80)+(W80*X80*Paramètres!$D$3/VLOOKUP(Encodage!A80,Paramètres!$A$2:$D$15,4))","v":{"$error":"#DIV/0!"}},{"$error":"#DIV/0!"},{"$error":"#DIV/0!"},{"$f":"VLOOKUP(D80,Paramètres!$A$15:$D$26,2)","v":0},{"$f":"AA80/AA$20","v":{"$error":"#DIV/0!"}},{"$error":"#DIV/0!"}]
[2017,"Batiment 7",0,"A sélectionner dans la liste déroulante",0,null,null,null,"à encoder","à encoder",null,null,null,null,null,null,null,0,0,0,{"$error":"#DIV/0!"},{"$f":"VLOOKUP(D81,Paramètres!$A$15:$D$26,3)","v":0},{"$f":"K81*Paramètres!$H$3+L81*Paramètres!$H$4+Encodage!M81*Paramètres!$H$5+Encodage!N81*Paramètres!$H$6+Encodage!O81*Paramètres!$H$7+P81*Paramètres!$H$8","v":0},{"$f":"VLOOKUP(D81,Paramètres!$A$15:$E$26,5)","v":1},{"$f":"W81*(1-X81)+(W81*X81*Paramètres!$D$3/VLOOKUP(Encodage!A81,Paramètres!$A$2:$D$15,4))","v":{"$error":"#DIV/0!"}},{"$error":"#DIV/0!"},{"$error":"#DIV/0!"},{"$f":"VLOOKUP(D81,Paramètres!$A$15:$D$26,2)","v":0},{"$f":"AA81/AA$21","v":{"$error":"#DIV/0!"}},{"$error":"#DIV/0!"}]
[2017,"Batiment 8",0,"A sélectionner dans la liste déroulante",0,null,null,null,"à encoder","à encoder",null,null,null,null,null,null,null,0,0,0,{"$error":"#DIV/0!"},{"$f":"VLOOKUP(D82,Paramètres!$A$15:$D$26,3)","v":0},{"$f":"K82*Paramètres!$H$3+L82*Paramètres!$H$4+Encodage!M82*Paramètres!$H$5+Encodage!N82*Paramètres!$H$6+Encodage!O82*Paramètres!$H$7+P82*Paramètres!$H$8","v":0},{"$f":"VLOOKUP(D82,Paramètres!$A$15:$E$26,5)","v":1},{"$f":"W82*(1-X82)+(W82*X82*Paramètres!$D$3/VLOOKUP(Encodage!A82,Paramètres!$A$2:$D$15,4))","v":{"$error":"#DIV/0!"}},{"$error":"#DIV/0!"},{"$error":"#DIV/0!"},{"$f":"VLOOKUP(D82,Paramètres!$A$15:$D$26,2)","v":0},{"$f":"AA82/AA$22","v":{"$error":"#DIV/0!"}},{"$error":"#DIV/0!"}]
[2017,"Batiment 9",0,"A sélectionner dans la liste déroulante",0,null,null,null,"à encoder","à encoder",null,null,null,null,null,null,null,0,0,0,{"$error":"#DIV/0!"},{"$f":"VLOOKUP(D83,Paramètres!$A$15:$D$26,3)","v":0},{"$f":"K83*Paramètres!$H$3+L83*Paramètres!$H$4+Encodage!M83*Paramètres!$H$5+Encodage!N83*Paramètres!$H$6+Encodage!O83*Paramètres!$H$7+P83*Paramètres!$H$8","v":0},{"$f":"VLOOKUP(D83,Paramètres!$A$15:$E$26,5)","v":1},{"$f":"W83*(1-X83)+(W83*X83*Paramètres!$D$3/VLOOKUP(Encodage!A83,Paramètres!$A$2:$D$15,4))","v":{"$error":"#DIV/0!"}},{"$error":"#DIV/0!"},{"$error":"#DIV/0!"},{"$f":"VLOOKUP(D83,Paramètres!$A$15:$D$26,2)","v":0},{"$f":"AA83/AA$23","v":{"$error":"#DIV/0!"}},{"$error":"#DIV/0!"}]
[2017,"Batiment 10",0,"A sélectionner dans la liste déroulante",0,null,null,null,"à encoder","à encoder",null,null,null,null,null,null,null,0,0,0,{"$error":"#DIV/0!"},{"$f":"VLOOKUP(D84,Paramètres!$A$15:$D$26,3)","v":0},{"$f":"K84*Paramètres!$H$3+L84*Paramètres!$H$4+Encodage!M84*Paramètres!$H$5+Encodage!N84*Paramètres!$H$6+Encodage!O84*Paramètres!$H$7+P84*Paramètres!$H$8","v":0},{"$f":"VLOOKUP(D84,Paramètres!$A$15:$E$26,5)","v":1},{"$f":"W84*(1-X84)+(W84*X84*Paramètres!$D$3/VLOOKUP(Encodage!A84,Paramètres!$A$2:$D$15,4))","v":{"$error":"#DIV/0!"}},{"$error":"#DIV/0!"},{"$error":"#DIV/0!"},{"$f":"VLOOKUP(D84,Paramètres!$A$15:$D$26,2)","v":0},{"$f":"AA84/AA$24","v":{"$error":"#DIV/0!"}},{"$error":"#DIV/0!"}]
[2017,"Batiment 11",0,"A sélectionner dans la liste déroulante",0,null,null,null,"à encoder","à encoder",null,null,null,null,null,null,null,0,0,0,{"$error":"#DIV/0!"},{"$f":"VLOOKUP(D85,Paramètres!$A$15:$D$26,3)","v":0},{"$f":"K85*Paramètres!$H$3+L85*Paramètres!$H$4+Encodage!M85*Paramètres!$H$5+Encodage!N85*Paramètres!$H$6+Encodage!O85*Paramètres!$H$7+P85*Paramètres!$H$8","v":0},{"$f":"VLOOKUP(D85,Paramètres!$A$15:$E$26,5)","v":1},{"$f":"W85*(1-X85)+(W85*X85*Paramètres!$D$3/VLOOKUP(Encodage!A85,Paramètres!$A$2:$D$15,4))","v":{"$error":"#DIV/0!"}},{"$error":"#DIV/0!"},{"$error":"#DIV/0!"},{"$f":"VLOOKUP(D85,Paramètres!$A$15:$D$26,2)","v":0},{"$f":"AA85/AA$25","v":{"$error":"#DIV/0!"}},{"$error":"#DIV/0!"}]
[2017,"Batiment 12",0,"A sélectionner dans la liste déroulante",0,null,null,null,"à encoder","à encoder",null,null,null,null,null,null,null,0,0,0,{"$error":"#DIV/0!"},{"$f":"VLOOKUP(D86,Paramètres!$A$15:$D$26,3)","v":0},{"$f":"K86*Paramètres!$H$3+L86*Paramètres!$H$4+Encodage!M86*Paramètres!$H$5+Encodage!N86*Paramètres!$H$6+Encodage!O86*Paramètres!$H$7+P86*Paramètres!$H$8","v":0},{"$f":"VLOOKUP(D86,Paramètres!$A$15:$E$26,5)","v":1},{"$f":"W86*(1-X86)+(W86*X86*Paramètres!$D$3/VLOOKUP(Encodage!A86,Paramètres!$A$2:$D$15,4))","v":{"$error":"#DIV/0!"}},{"$error":"#DIV/0!"},{"$error":"#DIV/0!"},{"$f":"VLOOKUP(D86,Paramètres!$A$15:$D$26,2)","v":0},{"$f":"AA86/AA$26","v":{"$error":"#DIV/0!"}},{"$error":"#DIV/0!"}]
[2017,"Total",{"$f":"SUM(C75:C86)","v":0},null,null,{"$f":"SUM(F75:F86)","v":0},{"$f":"SUM(G75:G86)","v":0},{"$f":"SUM(H75:H86)","v":0},null,null,{"$f":"SUM(K75:K86)","v":0},0,0,0,0,0,0,null,{"$f":"SUM(S75:S86)","v":0},null,{"$error":"#DIV/0!"},{"$f":"VLOOKUP($D$5,Paramètres!$A$15:$D$26,3)","v":{"$error":"#N/A"}},{"$f":"SUM(W75:W86)","v":0},null,{"$f":"SUM(Y75:Y86)","v":{"$error":"#DIV/0!"}},null,{"$error":"#DIV/0!"},{"$f":"VLOOKUP($D$5,Paramètres!$A$15:$D$26,2)","v":{"$error":"#N/A"}},{"$f":"AA87/AA$27","v":{"$error":"#DIV/0!"}}]
[]
[{"$f":"A74+1","v":2018}]
[{"$f":"A89","v":2018},{"$f":"B75","v":"Batiment 1"},0,"A sélectionner dans la liste déroulante",0,null,null,null,{"$f":"I75","v":"à encoder"},{"$f":"J75","v":"à encoder"},null,null,null,null,null,null,null,{"$f":"IFERROR(Q90/Q75-1,0)","v":0},{"$f":"IF(F90<>0,F90,G90+H90)","v":0},{"$f":"IF(S90=0,0,S90/S75-1)","v":0},{"$f":"S90/C90","v":{"$error":"#DIV/0!"}},{"$f":"VLOOKUP(D90,Paramètres!$A$15:$D$26,3)","v":0},{"$f":"K90*Paramètres!$H$3+L90*Paramètres!$H$4+Encodage!M90*Paramètres!$H$5+Encodage!N90*Paramètres!$H$6+Encodage!O90*Paramètres!$H$7+P90*Paramètres!$H$8","v":0},{"$f":"VLOOKUP(D90,Paramètres!$A$15:$E$26,5)","v":1},{"$f":"W90*(1-X90)+(W90*X90*Paramètres!$D$3/VLOOKUP(Encodage!A90,Paramètres!$A$2:$D$15,4))","v":{"$error":"#DIV/0!"}},{"$f":"IF(Y90=0,0,Y90/Y75-1)","v":{"$error":"#DIV/0!"}},{"$f":"Y90/C90","v":{"$error":"#DIV/0!"}},{"$f":"VLOOKUP(D90,Paramètres!$A$15:$D$26,2)","v":0},{"$f":"AA90/AA$15","v":{"$error":"#DIV/0!"}},{"$f":"Y90*AA90","v":{"$error":"#DIV/0!"}}]
[{"$f":"A90","v":2018},"Batiment 2",0,"A sélectionner dans la liste déroulante",0,null,null,null,"à encoder","à encoder",null,null,null,null,null,null,null,0,0,{"$f":"IF(S91=0,0,S91/S76-1)","v":0},{"$error":"#DIV/0!"},{"$f":"VLOOKUP(D91,Paramètres!$A$15:$D$26,3)","v":0},{"$f":"K91*Paramètres!$H$3+L91*Paramètres!$H$4+Encodage!M91*Paramètres!$H$5+Encodage!N91*Paramètres!$H$6+Encodage!O91*Paramètres!$H$7+P91*Paramètres!$H$8","v":0},{"$f":"VLOOKUP(D91,Paramètres!$A$15:$E$26,5)","v":1},{"$f":"W91*(1-X91)+(W91*X91*Paramètres!$D$3/VLOOKUP(Encodage!A91,Paramètres!$A$2:$D$15,4))","v":{"$error":"#DIV/0!"}},{"$f":"IF(Y91=0,0,Y91/Y76-1)","v":{"$error":"#DIV/0!"}},{"$error":"#DIV/0!"},{"$f":"VLOOKUP(D91,Paramètres!$A$15:$D$26,2)","v":0},{"$f":"AA91/AA$16","v":{"$error":"#DIV/0!"}},{"$error":"#DIV/0!"}]
[{"$f":"A91","v":2018},"Batiment 3",0,"A sélectionner dans la liste déroulante",0,null,null,null,"à encoder","à encoder",null,null,null,null,null,null,null,0,0,0,{"$error":"#DIV/0!"},{"$f":"VLOOKUP(D92,Paramètres!$A$15:$D$26,3)","v":0},{"$f":"K92*Paramètres!$H$3+L92*Paramètres!$H$4+Encodage!M92*Paramètres!$H$5+Encodage!N92*Paramètres!$H$6+Encodage!O92*Paramètres!$H$7+P92*Paramètres!$H$8","v":0},{"$f":"VLOOKUP(D92,Paramètres!$A$15:$E$26,5)","v":1},{"$f":"W92*(1-X92)+(W92*X92*Paramètres!$D$3/VLOOKUP(Encodage!A92,Paramètres!$A$2:$D$15,4))","v":{"$error":"#DIV/0!"}},{"$error":"#DIV/0!"},{"$error":"#DIV/0!"},{"$f":"VLOOKUP(D92,Paramètres!$A$15:$D$26,2)","v":0},{"$f":"AA92/AA$17","v":{"$error":"#DIV/0!"}},{"$error":"#DIV/0!"}]
[2018,"Batiment 4",0,"A sélectionner dans la liste déroulante",0,null,null,null,"à encoder","à encoder",null,null,null,null,null,null,null,0,0,0,{"$error":"#DIV/0!"},{"$f":"VLOOKUP(D93,Paramètres!$A$15:$D$26,3)","v":0},{"$f":"K93*Paramètres!$H$3+L93*Paramètres!$H$4+Encodage!M93*Paramètres!$H$5+Encodage!N93*Paramètres!$H$6+Encodage!O93*Paramètres!$H$7+P93*Paramètres!$H$8","v":0},{"$f":"VLOOKUP(D93,Paramètres!$A$15:$E$26,5)","v":1},{"$f":"W93*(1-X93)+(W93*X93*Paramètres!$D$3/VLOOKUP(Encodage!A93,Paramètres!$A$2:$D$15,4))","v":{"$error":"#DIV/0!"}},{"$error":"#DIV/0!"},{"$error":"#DIV/0!"},{"$f":"VLOOKUP(D93,Paramètres!$A$15:$D$26,2)","v":0},{"$f":"AA93/AA$18","v":{"$error":"#DIV/0!"}},{"$error":"#DIV/0!"}]
[2018,"Batiment 5",0,"A sélectionner dans la liste déroulante",0,null,null,null,"à encoder","à encoder",null,null,null,null,null,null,null,0,0,0,{"$error":"#DIV/0!"},{"$f":"VLOOKUP(D94,Paramètres!$A$15:$D$26,3)","v":0},{"$f":"K94*Paramètres!$H$3+L94*Paramètres!$H$4+Encodage!M94*Paramètres!$H$5+Encodage!N94*Paramètres!$H$6+Encodage!O94*Paramètres!$H$7+P94*Paramètres!$H$8","v":0},{"$f":"VLOOKUP(D94,Paramètres!$A$15:$E$26,5)","v":1},{"$f":"W94*(1-X94)+(W94*X94*Paramètres!$D$3/VLOOKUP(Encodage!A94,Paramètres!$A$2:$D$15,4))","v":{"$error":"#DIV/0!"}},{"$error":"#DIV/0!"},{"$error":"#DIV/0!"},{"$f":"VLOOKUP(D94,Paramètres!$A$15:$D$26,2)","v":0},{"$f":"AA94/AA$19","v":{"$error":"#DIV/0!"}},{"$error":"#DIV/0!"}]
[2018,"Batiment 6",0,"A sélectionner dans la liste déroulante",0,null,null,null,"à encoder","à encoder",null,null,null,null,null,null,null,0,0,0,{"$error":"#DIV/0!"},{"$f":"VLOOKUP(D95,Paramètres!$A$15:$D$26,3)","v":0},{"$f":"K95*Paramètres!$H$3+L95*Paramètres!$H$4+Encodage!M95*Paramètres!$H$5+Encodage!N95*Paramètres!$H$6+Encodage!O95*Paramètres!$H$7+P95*Paramètres!$H$8","v":0},{"$f":"VLOOKUP(D95,Paramètres!$A$15:$E$26,5)","v":1},{"$f":"W95*(1-X95)+(W95*X95*Paramètres!$D$3/VLOOKUP(Encodage!A95,Paramètres!$A$2:$D$15,4))","v":{"$error":"#DIV/0!"}},{"$error":"#DIV/0!"},{"$error":"#DIV/0!"},{"$f":"VLOOKUP(D95,Paramètres!$A$15:$D$26,2)","v":0},{"$f":"AA95/AA$20","v":{"$error":"#DIV/0!"}},{"$error":"#DIV/0!"}]
[2018,"Batiment 7",0,"A sélectionner dans la liste déroulante",0,null,null,null,"à encoder","à encoder",null,null,null,null,null,null,null,0,0,0,{"$error":"#DIV/0!"},{"$f":"VLOOKUP(D96,Paramètres!$A$15:$D$26,3)","v":0},{"$f":"K96*Paramètres!$H$3+L96*Paramètres!$H$4+Encodage!M96*Paramètres!$H$5+Encodage!N96*Paramètres!$H$6+Encodage!O96*Paramètres!$H$7+P96*Paramètres!$H$8","v":0},{"$f":"VLOOKUP(D96,Paramètres!$A$15:$E$26,5)","v":1},{"$f":"W96*(1-X96)+(W96*X96*Paramètres!$D$3/VLOOKUP(Encodage!A96,Paramètres!$A$2:$D$15,4))","v":{"$error":"#DIV/0!"}},{"$error":"#DIV/0!"},{"$error":"#DIV/0!"},{"$f":"VLOOKUP(D96,Paramètres!$A$15:$D$26,2)","v":0},{"$f":"AA96/AA$21","v":{"$error":"#DIV/0!"}},{"$error":"#DIV/0!"}]
[2018,"Batiment 8",0,"A sélectionner dans la liste déroulante",0,null,null,null,"à encoder","à encoder",null,null,null,null,null,null,null,0,0,0,{"$error":"#DIV/0!"},{"$f":"VLOOKUP(D97,Paramètres!$A$15:$D$26,3)","v":0},{"$f":"K97*Paramètres!$H$3+L97*Paramètres!$H$4+Encodage!M97*Paramètres!$H$5+Encodage!N97*Paramètres!$H$6+Encodage!O97*Paramètres!$H$7+P97*Paramètres!$H$8","v":0},{"$f":"VLOOKUP(D97,Paramètres!$A$15:$E$26,5)","v":1},{"$f":"W97*(1-X97)+(W97*X97*Paramètres!$D$3/VLOOKUP(Encodage!A97,Paramètres!$A$2:$D$15,4))","v":{"$error":"#DIV/0!"}},{"$error":"#DIV/0!"},{"$error":"#DIV/0!"},{"$f":"VLOOKUP(D97,Paramètres!$A$15:$D$26,2)","v":0},{"$f":"AA97/AA$22","v":{"$error":"#DIV/0!"}},{"$error":"#DIV/0!"}]
[2018,"Batiment 9",0,"A sélectionner dans la liste déroulante",0,null,null,null,"à encoder","à encoder",null,null,null,null,null,null,null,0,0,0,{"$error":"#DIV/0!"},{"$f":"VLOOKUP(D98,Paramètres!$A$15:$D$26,3)","v":0},{"$f":"K98*Paramètres!$H$3+L98*Paramètres!$H$4+Encodage!M98*Paramètres!$H$5+Encodage!N98*Paramètres!$H$6+Encodage!O98*Paramètres!$H$7+P98*Paramètres!$H$8","v":0},{"$f":"VLOOKUP(D98,Paramètres!$A$15:$E$26,5)","v":1},{"$f":"W98*(1-X98)+(W98*X98*Paramètres!$D$3/VLOOKUP(Encodage!A98,Paramètres!$A$2:$D$15,4))","v":{"$error":"#DIV/0!"}},{"$error":"#DIV/0!"},{"$error":"#DIV/0!"},{"$f":"VLOOKUP(D98,Paramètres!$A$15:$D$26,2)","v":0},{"$f":"AA98/AA$23","v":{"$error":"#DIV/0!"}},{"$error":"#DIV/0!"}]
[2018,"Batiment 10",0,"A sélectionner dans la liste déroulante",0,null,null,null,"à encoder","à encoder",null,null,null,null,null,null,null,0,0,0,{"$error":"#DIV/0!"},{"$f":"VLOOKUP(D99,Paramètres!$A$15:$D$26,3)","v":0},{"$f":"K99*Paramètres!$H$3+L99*Paramètres!$H$4+Encodage!M99*Paramètres!$H$5+Encodage!N99*Paramètres!$H$6+Encodage!O99*Paramètres!$H$7+P99*Paramètres!$H$8","v":0},{"$f":"VLOOKUP(D99,Paramètres!$A$15:$E$26,5)","v":1},{"$f":"W99*(1-X99)+(W99*X99*Paramètres!$D$3/VLOOKUP(Encodage!A99,Paramètres!$A$2:$D$15,4))","v":{"$error":"#DIV/0!"}},{"$error":"#DIV/0!"},{"$error":"#DIV/0!"},{"$f":"VLOOKUP(D99,Paramètres!$A$15:$D$26,2)","v":0},{"$f":"AA99/AA$24","v":{"$error":"#DIV/0!"}},{"$error":"#DIV/0!"}]
[2018,"Batiment 11",0,"A sélectionner dans la liste déroulante",0,null,null,null,"à encoder","à encoder",null,null,null,null,null,null,null,0,0,0,{"$error":"#DIV/0!"},{"$f":"VLOOKUP(D100,Paramètres!$A$15:$D$26,3)","v":0},{"$f":"K100*Paramètres!$H$3+L100*Paramètres!$H$4+Encodage!M100*Paramètres!$H$5+Encodage!N100*Paramètres!$H$6+Encodage!O100*Paramètres!$H$7+P100*Paramètres!$H$8","v":0},{"$f":"VLOOKUP(D100,Paramètres!$A$15:$E$26,5)","v":1},{"$f":"W100*(1-X100)+(W100*X100*Paramètres!$D$3/VLOOKUP(Encodage!A100,Paramètres!$A$2:$D$15,4))","v":{"$error":"#DIV/0!"}},{"$error":"#DIV/0!"},{"$error":"#DIV/0!"},{"$f":"VLOOKUP(D100,Paramètres!$A$15:$D$26,2)","v":0},{"$f":"AA100/AA$25","v":{"$error":"#DIV/0!"}},{"$error":"#DIV/0!"}]
[2018,"Batiment 12",0,"A sélectionner dans la liste déroulante",0,null,null,null,"à encoder","à encoder",null,null,null,null,null,null,null,0,0,0,{"$error":"#DIV/0!"},{"$f":"VLOOKUP(D101,Paramètres!$A$15:$D$26,3)","v":0},{"$f":"K101*Paramètres!$H$3+L101*Paramètres!$H$4+Encodage!M101*Paramètres!$H$5+Encodage!N101*Paramètres!$H$6+Encodage!O101*Paramètres!$H$7+P101*Paramètres!$H$8","v":0},{"$f":"VLOOKUP(D101,Paramètres!$A$15:$E$26,5)","v":1},{"$f":"W101*(1-X101)+(W101*X101*Paramètres!$D$3/VLOOKUP(Encodage!A101,Paramètres!$A$2:$D$15,4))","v":{"$error":"#DIV/0!"}},{"$error":"#DIV/0!"},{"$error":"#DIV/0!"},{"$f":"VLOOKUP(D101,Paramètres!$A$15:$D$26,2)","v":0},{"$f":"AA101/AA$26","v":{"$error":"#DIV/0!"}},{"$error":"#DIV/0!"}]
[2018,"Total",{"$f":"SUM(C90:C101)","v":0},null,null,{"$f":"SUM(F90:F101)","v":0},{"$f":"SUM(G90:G101)","v":0},{"$f":"SUM(H90:H101)","v":0},null,null,{"$f":"SUM(K90:K101)","v":0},0,0,0,0,0,0,null,{"$f":"SUM(S90:S101)","v":0},null,{"$error":"#DIV/0!"},{"$f":"VLOOKUP($D$5,Paramètres!$A$15:$D$26,3)","v":{"$error":"#N/A"}},{"$f":"SUM(W90:W101)","v":0},null,{"$f":"SUM(Y90:Y101)","v":{"$error":"#DIV/0!"}},null,{"$error":"#DIV/0!"},{"$f":"VLOOKUP($D$5,Paramètres!$A$15:$D$26,2)","v":{"$error":"#N/A"}},{"$f":"AA102/AA$27","v":{"$error":"#DIV/0!"}}]
[]
[{"$f":"A89+1","v":2019}]
[{"$f":"A104","v":2019},{"$f":"B90","v":"Batiment 1"},0,"A sélectionner dans la liste déroulante",0,null,null,null,{"$f":"I90","v":"à encoder"},{"$f":"J90","v":"à encoder"},null,null,null,null,null,null,null,{"$f":"IFERROR(Q105/Q90-1,0)","v":0},{"$f":"IF(F105<>0,F105,G105+H105)","v":0},{"$f":"IF(S105=0,0,S105/S90-1)","v":0},{"$f":"S105/C105","v":{"$error":"#DIV/0!"}},{"$f":"VLOOKUP(D105,Paramètres!$A$15:$D$26,3)","v":0},{"$f":"K105*Paramètres!$H$3+L105*Paramètres!$H$4+Encodage!M105*Paramètres!$H$5+Encodage!N105*Paramètres!$H$6+Encodage!O105*Paramètres!$H$7+P105*Paramètres!$H$8","v":0},{"$f":"VLOOKUP(D105,Paramètres!$A$15:$E$26,5)","v":1},{"$f":"W105*(1-X105)+(W105*X105*Paramètres!$D$3/VLOOKUP(Encodage!A105,Paramètres!$A$2:$D$15,4))","v":{"$error":"#DIV/0!"}},{"$f":"IF(Y105=0,0,Y105/Y90-1)","v":{"$error":"#DIV/0!"}},{"$f":"Y105/C105","v":{"$error":"#DIV/0!"}},{"$f":"VLOOKUP(D105,Paramètres!$A$15:$D$26,2)","v":0},{"$f":"AA105/AA$15","v":{"$error":"#DIV/0!"}},{"$f":"Y105*AA105","v":{"$error":"#DIV/0!"}}]
[{"$f":"A105","v":2019},"Batiment 2",0,"A sélectionner dans la liste déroulante",0,null,null,null,"à encoder","à encoder",null,null,null,null,null,null,null,0,0,{"$f":"IF(S106=0,0,S106/S91-1)","v":0},{"$error":"#DIV/0!"},{"$f":"VLOOKUP(D106,Paramètres!$A$15:$D$26,3)","v":0},{"$f":"K106*Paramètres!$H$3+L106*Paramètres!$H$4+Encodage!M106*Paramètres!$H$5+Encodage!N106*Paramètres!$H$6+Encodage!O106*Paramètres!$H$7+P106*Paramètres!$H$8","v":0},{"$f":"VLOOKUP(D106,Paramètres!$A$15:$E$26,5)","v":1},{"$f":"W106*(1-X106)+(W106*X106*Paramètres!$D$3/VLOOKUP(Encodage!A106,Paramètres!$A$2:$D$15,4))","v":{"$error":"#DIV/0!"}},{"$f":"IF(Y106=0,0,Y106/Y91-1)","v":{"$error":"#DIV/0!"}},{"$error":"#DIV/0!"},{"$f":"VLOOKUP(D106,Paramètres!$A$15:$D$26,2)","v":0},{"$f":"AA106/AA$16","v":{"$error":"#DIV/0!"}},{"$error":"#DIV/0!"}]
[{"$f":"A106","v":2019},"Batiment 3",0,"A sélectionner dans la liste déroulante",0,null,null,null,"à encoder","à encoder",null,null,null,null,null,null,null,0,0,0,{"$error":"#DIV/0!"},{"$f":"VLOOKUP(D107,Paramètres!$A$15:$D$26,3)","v":0},{"$f":"K107*Paramètres!$H$3+L107*Paramètres!$H$4+Encodage!M107*Paramètres!$H$5+Encodage!N107*Paramètres!$H$6+Encodage!O107*Paramètres!$H$7+P107*Paramètres!$H$8","v":0},{"$f":"VLOOKUP(D107,Paramètres!$A$15:$E$26,5)","v":1},{"$f":"W107*(1-X107)+(W107*X107*Paramètres!$D$3/VLOOKUP(Encodage!A107,Paramètres!$A$2:$D$15,4))","v":{"$error":"#DIV/0!"}},{"$error":"#DIV/0!"},{"$error":"#DIV/0!"},{"$f":"VLOOKUP(D107,Paramètres!$A$15:$D$26,2)","v":0},{"$f":"AA107/AA$17","v":{"$error":"#DIV/0!"}},{"$error":"#DIV/0!"}]
[2019,"Batiment 4",0,"A sélectionner dans la liste déroulante",0,null,null,null,"à encoder","à encoder",null,null,null,null,null,null,null,0,0,0,{"$error":"#DIV/0!"},{"$f":"VLOOKUP(D108,Paramètres!$A$15:$D$26,3)","v":0},{"$f":"K108*Paramètres!$H$3+L108*Paramètres!$H$4+Encodage!M108*Paramètres!$H$5+Encodage!N108*Paramètres!$H$6+Encodage!O108*Paramètres!$H$7+P108*Paramètres!$H$8","v":0},{"$f":"VLOOKUP(D108,Paramètres!$A$15:$E$26,5)","v":1},{"$f":"W108*(1-X108)+(W108*X108*Paramètres!$D$3/VLOOKUP(Encodage!A108,Paramètres!$A$2:$D$15,4))","v":{"$error":"#DIV/0!"}},{"$error":"#DIV/0!"},{"$error":"#DIV/0!"},{"$f":"VLOOKUP(D108,Paramètres!$A$15:$D$26,2)","v":0},{"$f":"AA108/AA$18","v":{"$error":"#DIV/0!"}},{"$error":"#DIV/0!"}]
[2019,"Batiment 5",0,"A sélectionner dans la liste déroulante",0,null,null,null,"à encoder","à encoder",null,null,null,null,null,null,null,0,0,0,{"$error":"#DIV/0!"},{"$f":"VLOOKUP(D109,Paramètres!$A$15:$D$26,3)","v":0},{"$f":"K109*Paramètres!$H$3+L109*Paramètres!$H$4+Encodage!M109*Paramètres!$H$5+Encodage!N109*Paramètres!$H$6+Encodage!O109*Paramètres!$H$7+P109*Paramètres!$H$8","v":0},{"$f":"VLOOKUP(D109,Paramètres!$A$15:$E$26,5)","v":1},{"$f":"W109*(1-X109)+(W109*X109*Paramètres!$D$3/VLOOKUP(Encodage!A109,Paramètres!$A$2:$D$15,4))","v":{"$error":"#DIV/0!"}},{"$error":"#DIV/0!"},{"$error":"#DIV/0!"},{"$f":"VLOOKUP(D109,Paramètres!$A$15:$D$26,2)","v":0},{"$f":"AA109/AA$19","v":{"$error":"#DIV/0!"}},{"$error":"#DIV/0!"}]
[2019,"Batiment 6",0,"A sélectionner dans la liste déroulante",0,null,null,null,"à encoder","à encoder",null,null,null,null,null,null,null,0,0,0,{"$error":"#DIV/0!"},{"$f":"VLOOKUP(D110,Paramètres!$A$15:$D$26,3)","v":0},{"$f":"K110*Paramètres!$H$3+L110*Paramètres!$H$4+Encodage!M110*Paramètres!$H$5+Encodage!N110*Paramètres!$H$6+Encodage!O110*Paramètres!$H$7+P110*Paramètres!$H$8","v":0},{"$f":"VLOOKUP(D110,Paramètres!$A$15:$E$26,5)","v":1},{"$f":"W110*(1-X110)+(W110*X110*Paramètres!$D$3/VLOOKUP(Encodage!A110,Paramètres!$A$2:$D$15,4))","v":{"$error":"#DIV/0!"}},{"$error":"#DIV/0!"},{"$error":"#DIV/0!"},{"$f":"VLOOKUP(D110,Paramètres!$A$15:$D$26,2)","v":0},{"$f":"AA110/AA$20","v":{"$error":"#DIV/0!"}},{"$error":"#DIV/0!"}]
[2019,"Batiment 7",0,"A sélectionner dans la liste déroulante",0,null,null,null,"à encoder","à encoder",null,null,null,null,null,null,null,0,0,0,{"$error":"#DIV/0!"},{"$f":"VLOOKUP(D111,Paramètres!$A$15:$D$26,3)","v":0},{"$f":"K111*Paramètres!$H$3+L111*Paramètres!$H$4+Encodage!M111*Paramètres!$H$5+Encodage!N111*Paramètres!$H$6+Encodage!O111*Paramètres!$H$7+P111*Paramètres!$H$8","v":0},{"$f":"VLOOKUP(D111,Paramètres!$A$15:$E$26,5)","v":1},{"$f":"W111*(1-X111)+(W111*X111*Paramètres!$D$3/VLOOKUP(Encodage!A111,Paramètres!$A$2:$D$15,4))","v":{"$error":"#DIV/0!"}},{"$error":"#DIV/0!"},{"$error":"#DIV/0!"},{"$f":"VLOOKUP(D111,Paramètres!$A$15:$D$26,2)","v":0},{"$f":"AA111/AA$21","v":{"$error":"#DIV/0!"}},{"$error":"#DIV/0!"}]
[2019,"Batiment 8",0,"A sélectionner dans la liste déroulante",0,null,null,null,"à encoder","à encoder",null,null,null,null,null,null,null,0,0,0,{"$error":"#DIV/0!"},{"$f":"VLOOKUP(D112,Paramètres!$A$15:$D$26,3)","v":0},{"$f":"K112*Paramètres!$H$3+L112*Paramètres!$H$4+Encodage!M112*Paramètres!$H$5+Encodage!N112*Paramètres!$H$6+Encodage!O112*Paramètres!$H$7+P112*Paramètres!$H$8","v":0},{"$f":"VLOOKUP(D112,Paramètres!$A$15:$E$26,5)","v":1},{"$f":"W112*(1-X112)+(W112*X112*Paramètres!$D$3/VLOOKUP(Encodage!A112,Paramètres!$A$2:$D$15,4))","v":{"$error":"#DIV/0!"}},{"$error":"#DIV/0!"},{"$error":"#DIV/0!"},{"$f":"VLOOKUP(D112,Paramètres!$A$15:$D$26,2)","v":0},{"$f":"AA112/AA$22","v":{"$error":"#DIV/0!"}},{"$error":"#DIV/0!"}]
[2019,"Batiment 9",0,"A sélectionner dans la liste déroulante",0,null,null,null,"à encoder","à encoder",null,null,null,null,null,null,null,0,0,0,{"$error":"#DIV/0!"},{"$f":"VLOOKUP(D113,Paramètres!$A$15:$D$26,3)","v":0},{"$f":"K113*Paramètres!$H$3+L113*Paramètres!$H$4+Encodage!M113*Paramètres!$H$5+Encodage!N113*Paramètres!$H$6+Encodage!O113*Paramètres!$H$7+P113*Paramètres!$H$8","v":0},{"$f":"VLOOKUP(D113,Paramètres!$A$15:$E$26,5)","v":1},{"$f":"W113*(1-X113)+(W113*X113*Paramètres!$D$3/VLOOKUP(Encodage!A113,Paramètres!$A$2:$D$15,4))","v":{"$error":"#DIV/0!"}},{"$error":"#DIV/0!"},{"$error":"#DIV/0!"},{"$f":"VLOOKUP(D113,Paramètres!$A$15:$D$26,2)","v":0},{"$f":"AA113/AA$23","v":{"$error":"#DIV/0!"}},{"$error":"#DIV/0!"}]
[2019,"Batiment 10",0,"A sélectionner dans la liste déroulante",0,null,null,null,"à encoder","à encoder",null,null,null,null,null,null,null,0,0,0,{"$error":"#DIV/0!"},{"$f":"VLOOKUP(D114,Paramètres!$A$15:$D$26,3)","v":0},{"$f":"K114*Paramètres!$H$3+L114*Paramètres!$H$4+Encodage!M114*Paramètres!$H$5+Encodage!N114*Paramètres!$H$6+Encodage!O114*Paramètres!$H$7+P114*Paramètres!$H$8","v":0},{"$f":"VLOOKUP(D114,Paramètres!$A$15:$E$26,5)","v":1},{"$f":"W114*(1-X114)+(W114*X114*Paramètres!$D$3/VLOOKUP(Encodage!A114,Paramètres!$A$2:$D$15,4))","v":{"$error":"#DIV/0!"}},{"$error":"#DIV/0!"},{"$error":"#DIV/0!"},{"$f":"VLOOKUP(D114,Paramètres!$A$15:$D$26,2)","v":0},{"$f":"AA114/AA$24","v":{"$error":"#DIV/0!"}},{"$error":"#DIV/0!"}]
[2019,"Batiment 11",0,"A sélectionner dans la liste déroulante",0,null,null,null,"à encoder","à encoder",null,null,null,null,null,null,null,0,0,0,{"$error":"#DIV/0!"},{"$f":"VLOOKUP(D115,Paramètres!$A$15:$D$26,3)","v":0},{"$f":"K115*Paramètres!$H$3+L115*Paramètres!$H$4+Encodage!M115*Paramètres!$H$5+Encodage!N115*Paramètres!$H$6+Encodage!O115*Paramètres!$H$7+P115*Paramètres!$H$8","v":0},{"$f":"VLOOKUP(D115,Paramètres!$A$15:$E$26,5)","v":1},{"$f":"W115*(1-X115)+(W115*X115*Paramètres!$D$3/VLOOKUP(Encodage!A115,Paramètres!$A$2:$D$15,4))","v":{"$error":"#DIV/0!"}},{"$error":"#DIV/0!"},{"$error":"#DIV/0!"},{"$f":"VLOOKUP(D115,Paramètres!$A$15:$D$26,2)","v":0},{"$f":"AA115/AA$25","v":{"$error":"#DIV/0!"}},{"$error":"#DIV/0!"}]
[2019,"Batiment 12",0,"A sélectionner dans la liste déroulante",0,null,null,null,"à encoder","à encoder",null,null,null,null,null,null,null,0,0,0,{"$error":"#DIV/0!"},{"$f":"VLOOKUP(D116,Paramètres!$A$15:$D$26,3)","v":0},{"$f":"K116*Paramètres!$H$3+L116*Paramètres!$H$4+Encodage!M116*Paramètres!$H$5+Encodage!N116*Paramètres!$H$6+Encodage!O116*Paramètres!$H$7+P116*Paramètres!$H$8","v":0},{"$f":"VLOOKUP(D116,Paramètres!$A$15:$E$26,5)","v":1},{"$f":"W116*(1-X116)+(W116*X116*Paramètres!$D$3/VLOOKUP(Encodage!A116,Paramètres!$A$2:$D$15,4))","v":{"$error":"#DIV/0!"}},{"$error":"#DIV/0!"},{"$error":"#DIV/0!"},{"$f":"VLOOKUP(D116,Paramètres!$A$15:$D$26,2)","v":0},{"$f":"AA116/AA$26","v":{"$error":"#DIV/0!"}},{"$error":"#DIV/0!"}]
[2019,"Total",{"$f":"SUM(C105:C116)","v":0},null,null,{"$f":"SUM(F105:F116)","v":0},{"$f":"SUM(G105:G116)","v":0},{"$f":"SUM(H105:H116)","v":0},null,null,{"$f":"SUM(K105:K116)","v":0},0,0,0,0,0,0,null,{"$f":"SUM(S105:S116)","v":0},null,{"$error":"#DIV/0!"},{"$f":"VLOOKUP($D$5,Paramètres!$A$15:$D$26,3)","v":{"$error":"#N/A"}},{"$f":"SUM(W105:W116)","v":0},null,{"$f":"SUM(Y105:Y116)","v":{"$error":"#DIV/0!"}},null,{"$error":"#DIV/0!"},{"$f":"VLOOKUP($D$5,Paramètres!$A$15:$D$26,2)","v":{"$error":"#N/A"}},{"$f":"AA117/AA$27","v":{"$error":"#DIV/0!"}}]
[]
[{"$f":"A104+1","v":2020}]
[{"$f":"A119","v":2020},{"$f":"B105","v":"Batiment 1"},0,"A sélectionner dans la liste déroulante",0,null,null,null,{"$f":"I105","v":"à encoder"},{"$f":"J105","v":"à encoder"},null,null,null,null,null,null,null,{"$f":"IFERROR(Q120/Q105-1,0)","v":0},{"$f":"IF(F120<>0,F120,G120+H120)","v":0},{"$f":"IF(S120=0,0,S120/S105-1)","v":0},{"$f":"S120/C120","v":{"$error":"#DIV/0!"}},{"$f":"VLOOKUP(D120,Paramètres!$A$15:$D$26,3)","v":0},{"$f":"K120*Paramètres!$H$3+L120*Paramètres!$H$4+Encodage!M120*Paramètres!$H$5+Encodage!N120*Paramètres!$H$6+Encodage!O120*Paramètres!$H$7+P120*Paramètres!$H$8","v":0},{"$f":"VLOOKUP(D120,Paramètres!$A$15:$E$26,5)","v":1},{"$f":"W120*(1-X120)+(W120*X120*Paramètres!$D$3/VLOOKUP(Encodage!A120,Paramètres!$A$2:$D$15,4))","v":{"$error":"#DIV/0!"}},{"$f":"IF(Y120=0,0,Y120/Y105-1)","v":{"$error":"#DIV/0!"}},{"$f":"Y120/C120","v":{"$error":"#DIV/0!"}},{"$f":"VLOOKUP(D120,Paramètres!$A$15:$D$26,2)","v":0},{"$f":"AA120/AA$15","v":{"$error":"#DIV/0!"}},{"$f":"Y120*AA120","v":{"$error":"#DIV/0!"}}]
[{"$f":"A120","v":2020},"Batiment 2",0,"A sélectionner dans la liste déroulante",0,null,null,null,"à encoder","à encoder",null,null,null,null,null,null,null,0,0,{"$f":"IF(S121=0,0,S121/S106-1)","v":0},{"$error":"#DIV/0!"},{"$f":"VLOOKUP(D121,Paramètres!$A$15:$D$26,3)","v":0},{"$f":"K121*Paramètres!$H$3+L121*Paramètres!$H$4+Encodage!M121*Paramètres!$H$5+Encodage!N121*Paramètres!$H$6+Encodage!O121*Paramètres!$H$7+P121*Paramètres!$H$8","v":0},{"$f":"VLOOKUP(D121,Paramètres!$A$15:$E$26,5)","v":1},{"$f":"W121*(1-X121)+(W121*X121*Paramètres!$D$3/VLOOKUP(Encodage!A121,Paramètres!$A$2:$D$15,4))","v":{"$error":"#DIV/0!"}},{"$f":"IF(Y121=0,0,Y121/Y106-1)","v":{"$error":"#DIV/0!"}},{"$error":"#DIV/0!"},{"$f":"VLOOKUP(D121,Paramètres!$A$15:$D$26,2)","v":0},{"$f":"AA121/AA$16","v":{"$error":"#DIV/0!"}},{"$error":"#DIV/0!"}]
[{"$f":"A121","v":2020},"Batiment 3",0,"A sélectionner dans la liste déroulante",0,null,null,null,"à encoder","à encoder",null,null,null,null,null,null,null,0,0,0,{"$error":"#DIV/0!"},{"$f":"VLOOKUP(D122,Paramètres!$A$15:$D$26,3)","v":0},{"$f":"K122*Paramètres!$H$3+L122*Paramètres!$H$4+Encodage!M122*Paramètres!$H$5+Encodage!N122*Paramètres!$H$6+Encodage!O122*Paramètres!$H$7+P122*Paramètres!$H$8","v":0},{"$f":"VLOOKUP(D122,Paramètres!$A$15:$E$26,5)","v":1},{"$f":"W122*(1-X122)+(W122*X122*Paramètres!$D$3/VLOOKUP(Encodage!A122,Paramètres!$A$2:$D$15,4))","v":{"$error":"#DIV/0!"}},{"$error":"#DIV/0!"},{"$error":"#DIV/0!"},{"$f":"VLOOKUP(D122,Paramètres!$A$15:$D$26,2)","v":0},{"$f":"AA122/AA$17","v":{"$error":"#DIV/0!"}},{"$error":"#DIV/0!"}]
[2020,"Batiment 4",0,"A sélectionner dans la liste déroulante",0,null,null,null,"à encoder","à encoder",null,null,null,null,null,null,null,0,0,0,{"$error":"#DIV/0!"},{"$f":"VLOOKUP(D123,Paramètres!$A$15:$D$26,3)","v":0},{"$f":"K123*Paramètres!$H$3+L123*Paramètres!$H$4+Encodage!M123*Paramètres!$H$5+Encodage!N123*Paramètres!$H$6+Encodage!O123*Paramètres!$H$7+P123*Paramètres!$H$8","v":0},{"$f":"VLOOKUP(D123,Paramètres!$A$15:$E$26,5)","v":1},{"$f":"W123*(1-X123)+(W123*X123*Paramètres!$D$3/VLOOKUP(Encodage!A123,Paramètres!$A$2:$D$15,4))","v":{"$error":"#DIV/0!"}},{"$error":"#DIV/0!"},{"$error":"#DIV/0!"},{"$f":"VLOOKUP(D123,Paramètres!$A$15:$D$26,2)","v":0},{"$f":"AA123/AA$18","v":{"$error":"#DIV/0!"}},{"$error":"#DIV/0!"}]
[2020,"Batiment 5",0,"A sélectionner dans la liste déroulante",0,null,null,null,"à encoder","à encoder",null,null,null,null,null,null,null,0,0,0,{"$error":"#DIV/0!"},{"$f":"VLOOKUP(D124,Paramètres!$A$15:$D$26,3)","v":0},{"$f":"K124*Paramètres!$H$3+L124*Paramètres!$H$4+Encodage!M124*Paramètres!$H$5+Encodage!N124*Paramètres!$H$6+Encodage!O124*Paramètres!$H$7+P124*Paramètres!$H$8","v":0},{"$f":"VLOOKUP(D124,Paramètres!$A$15:$E$26,5)","v":1},{"$f":"W124*(1-X124)+(W124*X124*Paramètres!$D$3/VLOOKUP(Encodage!A124,Paramètres!$A$2:$D$15,4))","v":{"$error":"#DIV/0!"}},{"$error":"#DIV/0!"},{"$error":"#DIV/0!"},{"$f":"VLOOKUP(D124,Paramètres!$A$15:$D$26,2)","v":0},{"$f":"AA124/AA$19","v":{"$error":"#DIV/0!"}},{"$error":"#DIV/0!"}]
[2020,"Batiment 6",0,"A sélectionner dans la liste déroulante",0,null,null,null,"à encoder","à encoder",null,null,null,null,null,null,null,0,0,0,{"$error":"#DIV/0!"},{"$f":"VLOOKUP(D125,Paramètres!$A$15:$D$26,3)","v":0},{"$f":"K125*Paramètres!$H$3+L125*Paramètres!$H$4+Encodage!M125*Paramètres!$H$5+Encodage!N125*Paramètres!$H$6+Encodage!O125*Paramètres!$H$7+P125*Paramètres!$H$8","v":0},{"$f":"VLOOKUP(D125,Paramètres!$A$15:$E$26,5)","v":1},{"$f":"W125*(1-X125)+(W125*X125*Paramètres!$D$3/VLOOKUP(Encodage!A125,Paramètres!$A$2:$D$15,4))","v":{"$error":"#DIV/0!"}},{"$error":"#DIV/0!"},{"$error":"#DIV/0!"},{"$f":"VLOOKUP(D125,Paramètres!$A$15:$D$26,2)","v":0},{"$f":"AA125/AA$20","v":{"$error":"#DIV/0!"}},{"$error":"#DIV/0!"}]
[2020,"Batiment 7",0,"A sélectionner dans la liste déroulante",0,null,null,null,"à encoder","à encoder",null,null,null,null,null,null,null,0,0,0,{"$error":"#DIV/0!"},{"$f":"VLOOKUP(D126,Paramètres!$A$15:$D$26,3)","v":0},{"$f":"K126*Paramètres!$H$3+L126*Paramètres!$H$4+Encodage!M126*Paramètres!$H$5+Encodage!N126*Paramètres!$H$6+Encodage!O126*Paramètres!$H$7+P126*Paramètres!$H$8","v":0},{"$f":"VLOOKUP(D126,Paramètres!$A$15:$E$26,5)","v":1},{"$f":"W126*(1-X126)+(W126*X126*Paramètres!$D$3/VLOOKUP(Encodage!A126,Paramètres!$A$2:$D$15,4))","v":{"$error":"#DIV/0!"}},{"$error":"#DIV/0!"},{"$error":"#DIV/0!"},{"$f":"VLOOKUP(D126,Paramètres!$A$15:$D$26,2)","v":0},{"$f":"AA126/AA$21","v":{"$error":"#DIV/0!"}},{"$error":"#DIV/0!"}]
[2020,"Batiment 8",0,"A sélectionner dans la liste déroulante",0,null,null,null,"à encoder","à encoder",null,null,null,null,null,null,null,0,0,0,{"$error":"#DIV/0!"},{"$f":"VLOOKUP(D127,Paramètres!$A$15:$D$26,3)","v":0},{"$f":"K127*Paramètres!$H$3+L127*Paramètres!$H$4+Encodage!M127*Paramètres!$H$5+Encodage!N127*Paramètres!$H$6+Encodage!O127*Paramètres!$H$7+P127*Paramètres!$H$8","v":0},{"$f":"VLOOKUP(D127,Paramètres!$A$15:$E$26,5)","v":1},{"$f":"W127*(1-X127)+(W127*X127*Paramètres!$D$3/VLOOKUP(Encodage!A127,Paramètres!$A$2:$D$15,4))","v":{"$error":"#DIV/0!"}},{"$error":"#DIV/0!"},{"$error":"#DIV/0!"},{"$f":"VLOOKUP(D127,Paramètres!$A$15:$D$26,2)","v":0},{"$f":"AA127/AA$22","v":{"$error":"#DIV/0!"}},{"$error":"#DIV/0!"}]
[2020,"Batiment 9",0,"A sélectionner dans la liste déroulante",0,null,null,null,"à encoder","à encoder",null,null,null,null,null,null,null,0,0,0,{"$error":"#DIV/0!"},{"$f":"VLOOKUP(D128,Paramètres!$A$15:$D$26,3)","v":0},{"$f":"K128*Paramètres!$H$3+L128*Paramètres!$H$4+Encodage!M128*Paramètres!$H$5+Encodage!N128*Paramètres!$H$6+Encodage!O128*Paramètres!$H$7+P128*Paramètres!$H$8","v":0},{"$f":"VLOOKUP(D128,Paramètres!$A$15:$E$26,5)","v":1},{"$f":"W128*(1-X128)+(W128*X128*Paramètres!$D$3/VLOOKUP(Encodage!A128,Paramètres!$A$2:$D$15,4))","v":{"$error":"#DIV/0!"}},{"$error":"#DIV/0!"},{"$error":"#DIV/0!"},{"$f":"VLOOKUP(D128,Paramètres!$A$15:$D$26,2)","v":0},{"$f":"AA128/AA$23","v":{"$error":"#DIV/0!"}},{"$error":"#DIV/0!"}]
[2020,"Batiment 10",0,"A sélectionner dans la liste déroulante",0,null,null,null,"à encoder","à encoder",null,null,null,null,null,null,null,0,0,0,{"$error":"#DIV/0!"},{"$f":"VLOOKUP(D129,Paramètres!$A$15:$D$26,3)","v":0},{"$f":"K129*Paramètres!$H$3+L129*Paramètres!$H$4+Encodage!M129*Paramètres!$H$5+Encodage!N129*Paramètres!$H$6+Encodage!O129*Paramètres!$H$7+P129*Paramètres!$H$8","v":0},{"$f":"VLOOKUP(D129,Paramètres!$A$15:$E$26,5)","v":1},{"$f":"W129*(1-X129)+(W129*X129*Paramètres!$D$3/VLOOKUP(Encodage!A129,Paramètres!$A$2:$D$15,4))","v":{"$error":"#DIV/0!"}},{"$error":"#DIV/0!"},{"$error":"#DIV/0!"},{"$f":"VLOOKUP(D129,Paramètres!$A$15:$D$26,2)","v":0},{"$f":"AA129/AA$24","v":{"$error":"#DIV/0!"}},{"$error":"#DIV/0!"}]
[2020,"Batiment 11",0,"A sélectionner dans la liste déroulante",0,null,null,null,"à encoder","à encoder",null,null,null,null,null,null,null,0,0,0,{"$error":"#DIV/0!"},{"$f":"VLOOKUP(D130,Paramètres!$A$15:$D$26,3)","v":0},{"$f":"K130*Paramètres!$H$3+L130*Paramètres!$H$4+Encodage!M130*Paramètres!$H$5+Encodage!N130*Paramètres!$H$6+Encodage!O130*Paramètres!$H$7+P130*Paramètres!$H$8","v":0},{"$f":"VLOOKUP(D130,Paramètres!$A$15:$E$26,5)","v":1},{"$f":"W130*(1-X130)+(W130*X130*Paramètres!$D$3/VLOOKUP(Encodage!A130,Paramètres!$A$2:$D$15,4))","v":{"$error":"#DIV/0!"}},{"$error":"#DIV/0!"},{"$error":"#DIV/0!"},{"$f":"VLOOKUP(D130,Paramètres!$A$15:$D$26,2)","v":0},{"$f":"AA130/AA$25","v":{"$error":"#DIV/0!"}},{"$error":"#DIV/0!"}]
[2020,"Batiment 12",0,"A sélectionner dans la liste déroulante",0,null,null,null,"à encoder","à encoder",null,null,null,null,null,null,null,0,0,0,{"$error":"#DIV/0!"},{"$f":"VLOOKUP(D131,Paramètres!$A$15:$D$26,3)","v":0},{"$f":"K131*Paramètres!$H$3+L131*Paramètres!$H$4+Encodage!M131*Paramètres!$H$5+Encodage!N131*Paramètres!$H$6+Encodage!O131*Paramètres!$H$7+P131*Paramètres!$H$8","v":0},{"$f":"VLOOKUP(D131,Paramètres!$A$15:$E$26,5)","v":1},{"$f":"W131*(1-X131)+(W131*X131*Paramètres!$D$3/VLOOKUP(Encodage!A131,Paramètres!$A$2:$D$15,4))","v":{"$error":"#DIV/0!"}},{"$error":"#DIV/0!"},{"$error":"#DIV/0!"},{"$f":"VLOOKUP(D131,Paramètres!$A$15:$D$26,2)","v":0},{"$f":"AA131/AA$26","v":{"$error":"#DIV/0!"}},{"$error":"#DIV/0!"}]
[2020,"Total",{"$f":"SUM(C120:C131)","v":0},null,null,{"$f":"SUM(F120:F131)","v":0},{"$f":"SUM(G120:G131)","v":0},{"$f":"SUM(H120:H131)","v":0},null,null,{"$f":"SUM(K120:K131)","v":0},0,0,0,0,0,0,null,{"$f":"SUM(S120:S131)","v":0},null,{"$error":"#DIV/0!"},{"$f":"VLOOKUP($D$5,Paramètres!$A$15:$D$26,3)","v":{"$error":"#N/A"}},{"$f":"SUM(W120:W131)","v":0},null,{"$f":"SUM(Y120:Y131)","v":{"$error":"#DIV/0!"}},null,{"$error":"#DIV/0!"},{"$f":"VLOOKUP($D$5,Paramètres!$A$15:$D$26,2)","v":{"$error":"#N/A"}},{"$f":"AA132/AA$27","v":{"$error":"#DIV/0!"}}]

{"sheet":"Resumé","index":4,"n_rows":34,"n_cols":9,"rows_kept":34,"cut":false,"hidden":false,"merged":[]}
["Evolution des consommations totales de tous les bâtiments"]
[]
[null,{"$f":"Encodage!D3","v":2013},{"$f":"B3+1","v":2014},2015,2016,2017,2018,2019,2020]
[{"$f":"JBV!A2","v":"Elec Tot"},{"$f":"HLOOKUP(B$3,JBV!$B$1:$I$12,2)","v":0},{"$f":"HLOOKUP(C$3,JBV!$B$1:$I$12,2)","v":0},{"$f":"HLOOKUP(D$3,JBV!$B$1:$I$12,2)","v":0},{"$f":"HLOOKUP(E$3,JBV!$B$1:$I$12,2)","v":0},{"$f":"HLOOKUP(F$3,JBV!$B$1:$I$12,2)","v":0},{"$f":"HLOOKUP(G$3,JBV!$B$1:$I$12,2)","v":0},{"$f":"HLOOKUP(H$3,JBV!$B$1:$I$12,2)","v":0},{"$f":"HLOOKUP(I$3,JBV!$B$1:$I$12,2)","v":0}]
[{"$f":"JBV!A3","v":"Elec heures pleines"},{"$f":"HLOOKUP(B$3,JBV!$B$1:$I$12,3)","v":0},{"$f":"HLOOKUP(C$3,JBV!$B$1:$I$12,3)","v":0},{"$f":"HLOOKUP(D$3,JBV!$B$1:$I$12,3)","v":0},{"$f":"HLOOKUP(E$3,JBV!$B$1:$I$12,3)","v":0},{"$f":"HLOOKUP(F$3,JBV!$B$1:$I$12,3)","v":0},{"$f":"HLOOKUP(G$3,JBV!$B$1:$I$12,3)","v":0},{"$f":"HLOOKUP(H$3,JBV!$B$1:$I$12,3)","v":0},{"$f":"HLOOKUP(I$3,JBV!$B$1:$I$12,3)","v":0}]
[{"$f":"JBV!A4","v":"Elec heures creuses"},{"$f":"HLOOKUP(B$3,JBV!$B$1:$I$12,4)","v":0},{"$f":"HLOOKUP(C$3,JBV!$B$1:$I$12,4)","v":0},{"$f":"HLOOKUP(D$3,JBV!$B$1:$I$12,4)","v":0},{"$f":"HLOOKUP(E$3,JBV!$B$1:$I$12,4)","v":0},{"$f":"HLOOKUP(F$3,JBV!$B$1:$I$12,4)","v":0},{"$f":"HLOOKUP(G$3,JBV!$B$1:$I$12,4)","v":0},{"$f":"HLOOKUP(H$3,JBV!$B$1:$I$12,4)","v":0},{"$f":"HLOOKUP(I$3,JBV!$B$1:$I$12,4)","v":0}]
[{"$f":"JBV!A5","v":"Consommation élect spécifique"},{"$f":"HLOOKUP(B$3,JBV!$B$1:$I$12,5)","v":{"$error":"#DIV/0!"}},{"$f":"HLOOKUP(C$3,JBV!$B$1:$I$12,5)","v":{"$error":"#DIV/0!"}},{"$f":"HLOOKUP(D$3,JBV!$B$1:$I$12,5)","v":{"$error":"#DIV/0!"}},{"$f":"HLOOKUP(E$3,JBV!$B$1:$I$12,5)","v":{"$error":"#DIV/0!"}},{"$f":"HLOOKUP(F$3,JBV!$B$1:$I$12,5)","v":{"$error":"#DIV/0!"}},{"$f":"HLOOKUP(G$3,JBV!$B$1:$I$12,5)","v":{"$error":"#DIV/0!"}},{"$f":"HLOOKUP(H$3,JBV!$B$1:$I$12,5)","v":{"$error":"#DIV/0!"}},{"$f":"HLOOKUP(I$3,JBV!$B$1:$I$12,5)","v":{"$error":"#DIV/0!"}}]
[{"$f":"JBV!A6","v":{"$error":"#N/A"}},{"$f":"HLOOKUP(B$3,JBV!$B$1:$I$12,6)","v":{"$error":"#N/A"}},{"$f":"HLOOKUP(C$3,JBV!$B$1:$I$12,6)","v":{"$error":"#N/A"}},{"$f":"HLOOKUP(D$3,JBV!$B$1:$I$12,6)","v":{"$error":"#N/A"}},{"$f":"HLOOKUP(E$3,JBV!$B$1:$I$12,6)","v":{"$error":"#N/A"}},{"$f":"HLOOKUP(F$3,JBV!$B$1:$I$12,6)","v":{"$error":"#N/A"}},{"$f":"HLOOKUP(G$3,JBV!$B$1:$I$12,6)","v":{"$error":"#N/A"}},{"$f":"HLOOKUP(H$3,JBV!$B$1:$I$12,6)","v":{"$error":"#N/A"}},{"$f":"HLOOKUP(I$3,JBV!$B$1:$I$12,6)","v":{"$error":"#N/A"}}]
[{"$f":"JBV!A7","v":"Consommation de combustibles"},{"$f":"HLOOKUP(B$3,JBV!$B$1:$I$12,7)","v":0},{"$f":"HLOOKUP(C$3,JBV!$B$1:$I$12,7)","v":0},{"$f":"HLOOKUP(D$3,JBV!$B$1:$I$12,7)","v":0},{"$f":"HLOOKUP(E$3,JBV!$B$1:$I$12,7)","v":0},{"$f":"HLOOKUP(F$3,JBV!$B$1:$I$12,7)","v":0},{"$f":"HLOOKUP(G$3,JBV!$B$1:$I$12,7)","v":0},{"$f":"HLOOKUP(H$3,JBV!$B$1:$I$12,7)","v":0},{"$f":"HLOOKUP(I$3,JBV!$B$1:$I$12,7)","v":0}]
[{"$f":"JBV!A8","v":"Consommation de combustible normalisé"},{"$f":"HLOOKUP(B$3,JBV!$B$1:$I$12,8)","v":0},{"$f":"HLOOKUP(C$3,JBV!$B$1:$I$12,8)","v":0},{"$f":"HLOOKUP(D$3,JBV!$B$1:$I$12,8)","v":{"$error":"#DIV/0!"}},{"$f":"HLOOKUP(E$3,JBV!$B$1:$I$12,8)","v":{"$error":"#DIV/0!"}},{"$f":"HLOOKUP(F$3,JBV!$B$1:$I$12,8)","v":{"$error":"#DIV/0!"}},{"$f":"HLOOKUP(G$3,JBV!$B$1:$I$12,8)","v":{"$error":"#DIV/0!"}},{"$f":"HLOOKUP(H$3,JBV!$B$1:$I$12,8)","v":{"$error":"#DIV/0!"}},{"$f":"HLOOKUP(I$3,JBV!$B$1:$I$12,8)","v":{"$error":"#DIV/0!"}}]
[{"$f":"JBV!A9","v":"Consommation combustible spécifique normalisée"},{"$f":"HLOOKUP(B$3,JBV!$B$1:$I$12,9)","v":{"$error":"#DIV/0!"}},{"$f":"HLOOKUP(C$3,JBV!$B$1:$I$12,9)","v":{"$error":"#DIV/0!"}},{"$f":"HLOOKUP(D$3,JBV!$B$1:$I$12,9)","v":{"$error":"#DIV/0!"}},{"$f":"HLOOKUP(E$3,JBV!$B$1:$I$12,9)","v":{"$error":"#DIV/0!"}},{"$f":"HLOOKUP(F$3,JBV!$B$1:$I$12,9)","v":{"$error":"#DIV/0!"}},{"$f":"HLOOKUP(G$3,JBV!$B$1:$I$12,9)","v":{"$error":"#DIV/0!"}},{"$f":"HLOOKUP(H$3,JBV!$B$1:$I$12,9)","v":{"$error":"#DIV/0!"}},{"$f":"HLOOKUP(I$3,JBV!$B$1:$I$12,9)","v":{"$error":"#DIV/0!"}}]
[{"$f":"JBV!A10","v":{"$error":"#N/A"}},{"$f":"HLOOKUP(B$3,JBV!$B$1:$I$12,10)","v":{"$error":"#N/A"}},{"$f":"HLOOKUP(C$3,JBV!$B$1:$I$12,10)","v":{"$error":"#N/A"}},{"$f":"HLOOKUP(D$3,JBV!$B$1:$I$12,10)","v":{"$error":"#N/A"}},{"$f":"HLOOKUP(E$3,JBV!$B$1:$I$12,10)","v":{"$error":"#N/A"}},{"$f":"HLOOKUP(F$3,JBV!$B$1:$I$12,10)","v":{"$error":"#N/A"}},{"$f":"HLOOKUP(G$3,JBV!$B$1:$I$12,10)","v":{"$error":"#N/A"}},{"$f":"HLOOKUP(H$3,JBV!$B$1:$I$12,10)","v":{"$error":"#N/A"}},{"$f":"HLOOKUP(I$3,JBV!$B$1:$I$12,10)","v":{"$error":"#N/A"}}]
[{"$f":"JBV!A11","v":"Degrés jours16,5/16,5"},{"$f":"HLOOKUP(B$3,JBV!$B$1:$I$12,11)","v":2537},{"$f":"HLOOKUP(C$3,JBV!$B$1:$I$12,11)","v":1828},{"$f":"HLOOKUP(D$3,JBV!$B$1:$I$12,11)","v":0},{"$f":"HLOOKUP(E$3,JBV!$B$1:$I$12,11)","v":0},{"$f":"HLOOKUP(F$3,JBV!$B$1:$I$12,11)","v":0},{"$f":"HLOOKUP(G$3,JBV!$B$1:$I$12,11)","v":0},{"$f":"HLOOKUP(H$3,JBV!$B$1:$I$12,11)","v":0},{"$f":"HLOOKUP(I$3,JBV!$B$1:$I$12,11)","v":0}]
[{"$f":"JBV!A12","v":"Eau en m³"},{"$f":"HLOOKUP(B$3,JBV!$B$1:$I$12,12)","v":0},{"$f":"HLOOKUP(C$3,JBV!$B$1:$I$12,12)","v":0},{"$f":"HLOOKUP(D$3,JBV!$B$1:$I$12,12)","v":0},{"$f":"HLOOKUP(E$3,JBV!$B$1:$I$12,12)","v":0},{"$f":"HLOOKUP(F$3,JBV!$B$1:$I$12,12)","v":0},{"$f":"HLOOKUP(G$3,JBV!$B$1:$I$12,12)","v":0},{"$f":"HLOOKUP(H$3,JBV!$B$1:$I$12,12)","v":0},{"$f":"HLOOKUP(I$3,JBV!$B$1:$I$12,12)","v":0}]
[]
["Evolution par rapport à l’année du 1er encodage",{"$f":"B3","v":2013},2014,2015,2016,2017,2018,2019,2020]
[{"$f":"A4","v":"Elec Tot"},{"$f":"B4/$B4","v":{"$error":"#DIV/0!"}},{"$f":"C4/$B4","v":{"$error":"#DIV/0!"}},{"$error":"#DIV/0!"},{"$error":"#DIV/0!"},{"$error":"#DIV/0!"},{"$error":"#DIV/0!"},{"$error":"#DIV/0!"},{"$error":"#DIV/0!"}]
[{"$f":"A5","v":"Elec heures pleines"},{"$f":"IFERROR(B5/$B5,\"NA\")","v":"NA"},{"$f":"IFERROR(C5/$B5,\"NA\")","v":"NA"},"NA","NA","NA","NA","NA","NA"]
["Elec heures creuses",{"$f":"IFERROR(B6/$B6,\"NA\")","v":"NA"},"NA","NA","NA","NA","NA","NA","NA"]
[{"$f":"A9","v":"Consommation de combustibles"},{"$f":"B9/$B9","v":{"$error":"#DIV/0!"}},{"$error":"#DIV/0!"},{"$error":"#DIV/0!"},{"$error":"#DIV/0!"},{"$error":"#DIV/0!"},{"$error":"#DIV/0!"},{"$error":"#DIV/0!"},{"$error":"#DIV/0!"}]
[{"$f":"A10","v":"Consommation de combustible normalisé"},{"$error":"#DIV/0!"},{"$error":"#DIV/0!"},{"$error":"#DIV/0!"},{"$error":"#DIV/0!"},{"$error":"#DIV/0!"},{"$error":"#DIV/0!"},{"$error":"#DIV/0!"},{"$error":"#DIV/0!"}]
[{"$f":"A11","v":"Consommation combustible spécifique normalisée"},{"$f":"B10/$B10","v":{"$error":"#DIV/0!"}},{"$error":"#DIV/0!"},{"$error":"#DIV/0!"},{"$error":"#DIV/0!"},{"$error":"#DIV/0!"},{"$error":"#DIV/0!"},{"$error":"#DIV/0!"},{"$error":"#DIV/0!"}]
[{"$f":"A13","v":"Degrés jours16,5/16,5"},{"$f":"B13/$B13","v":1},0.72053606621994482,0,0,0,0,0,0]
[{"$f":"A14","v":"Eau en m³"},{"$f":"IFERROR(B14/$B14,\"NA\")","v":"NA"},{"$f":"IFERROR(C14/$B14,\"NA\")","v":"NA"},"NA","NA","NA","NA","NA","NA"]
[]
["Evolution par rapport à l'année précédente",{"$f":"B16","v":2013},2014,2015,2016,2017,2018,2019,2020]
[{"$f":"A17","v":"Elec Tot"},null,{"$f":"IF(C17=0,0,C17/B17-1)","v":{"$error":"#DIV/0!"}},{"$f":"IF(D17=0,0,D17/C17-1)","v":{"$error":"#DIV/0!"}},{"$error":"#DIV/0!"},{"$error":"#DIV/0!"},{"$error":"#DIV/0!"},{"$error":"#DIV/0!"},{"$error":"#DIV/0!"}]
[{"$f":"A18","v":"Elec heures pleines"},null,{"$f":"IFERROR(C18/B18-1,\"NA\")","v":"NA"},{"$f":"IFERROR(D18/C18-1,\"NA\")","v":"NA"},"NA","NA","NA","NA","NA"]
[{"$f":"A19","v":"Elec heures creuses"},null,{"$f":"IFERROR(C19/B19-1,\"NA\")","v":"NA"},{"$f":"IFERROR(D19/C19-1,\"NA\")","v":"NA"},"NA","NA","NA","NA","NA"]
[{"$f":"A20","v":"Consommation de combustibles"},null,{"$f":"IF(C20=0,0,C20/B20-1)","v":{"$error":"#DIV/0!"}},{"$f":"IF(D20=0,0,D20/C20-1)","v":{"$error":"#DIV/0!"}},{"$error":"#DIV/0!"},{"$error":"#DIV/0!"},{"$error":"#DIV/0!"},{"$error":"#DIV/0!"},{"$error":"#DIV/0!"}]
[{"$f":"A21","v":"Consommation de combustible normalisé"},null,{"$f":"IF(C21=0,0,C21/B21-1)","v":{"$error":"#DIV/0!"}},{"$f":"IF(D21=0,0,D21/C21-1)","v":{"$error":"#DIV/0!"}},{"$error":"#DIV/0!"},{"$error":"#DIV/0!"},{"$error":"#DIV/0!"},{"$error":"#DIV/0!"},{"$error":"#DIV/0!"}]
[{"$f":"JBV!A9","v":"Consommation combustible spécifique normalisée"},null,{"$f":"IF(C22=0,0,C22/B22-1)","v":{"$error":"#DIV/0!"}},{"$f":"IF(D22=0,0,D22/C22-1)","v":{"$error":"#DIV/0!"}},{"$error":"#DIV/0!"},{"$error":"#DIV/0!"},{"$error":"#DIV/0!"},{"$error":"#DIV/0!"},{"$error":"#DIV/0!"}]
[{"$f":"JBV!A11","v":"Degrés jours16,5/16,5"},null,{"$f":"IF(C23=0,0,1-C23/B23)","v":0.27946393378005518},0,0,0,0,0,0]
[{"$f":"JBV!A12","v":"Eau en m³"},null,{"$f":"IFERROR(C24/B24-1,\"NA\")","v":"NA"},{"$f":"IFERROR(D24/C24-1,\"NA\")","v":"NA"},"NA","NA","NA","NA","NA"]

{"sheet":"G_Elec","index":5,"n_rows":106,"n_cols":17,"rows_kept":106,"cut":false,"hidden":false,"merged":[[81,0,81,5],[81,6,81,10],[81,11,81,15],[81,16,81,20],[82,0,82,5],[82,6,82,10],[82,11,82,15],[82,16,82,20],[104,16,104,20],[105,16,105,20],[104,0,104,5],[104,6,104,10],[105,0,105,5],[105,6,105,10],[104,11,104,15],[105,11,105,15]]}
[]
[]
[]
[]
[]
[]
[]
[]
[]
[]
[]
[]
[]
[]
[]
[]
[]
[]
[]
[]
[]
[]
[]
[]
[]
[]
[]
[]
[]
[]
[]
[]
[]
[]
[]
[]
[]
[]
[]
[]
[]
[]
[]
[]
[]
[]
[]
[]
[]
[]
[]
[]
[]
[]
[]
[]
[]
[]
[]
[]
[]
[]
[]
[]
[]
[]
[]
[]
[]
[]
[]
[]
[]
[]
[]
[]
[]
[]
[]
[]
[]
["Consommation d'élec par bâtiment",null,null,null,null,null,{"$f":"$A$105","v":"Consommation d'élec par bâtiment"},null,null,null,null,{"$f":"$A$105","v":"Consommation d'élec par bâtiment"},null,null,null,null,{"$f":"$A$105","v":"Consommation d'élec par bâtiment"}]
[{"$f":"Encodage!A13","v":2013},null,null,null,null,null,{"$f":"Encodage!A29","v":2014},null,null,null,null,{"$f":"Encodage!A44","v":2015},null,null,null,null,{"$f":"Encodage!A59","v":2016}]
[]
[]
[]
[]
[]
[]
[]
[]
[]
[]
[]
[]
[]
[]
[]
[]
[]
[]
[]
[]
[]
["Consommation d'élec par bâtiment",null,null,null,null,null,{"$f":"$A$105","v":"Consommation d'élec par bâtiment"},null,null,null,null,{"$f":"$A$105","v":"Consommation d'élec par bâtiment"},null,null,null,null,{"$f":"$A$105","v":"Consommation d'élec par bâtiment"}]
[{"$f":"Encodage!A74","v":2017},null,null,null,null,null,{"$f":"Encodage!A89","v":2018},null,null,null,null,{"$f":"Encodage!A104","v":2019},null,null,null,null,{"$f":"Encodage!A119","v":2020}]

{"sheet":"G_Combustible","index":6,"n_rows":0,"n_cols":0,"rows_kept":0,"cut":false,"hidden":false,"merged":[[40,0,40,5],[40,6,40,10],[59,6,59,10]]}

{"sheet":"G_Eau","index":7,"n_rows":0,"n_cols":0,"rows_kept":0,"cut":false,"hidden":false,"merged":[[21,0,21,5],[21,6,21,10]]}

{"sheet":"Paramètres","index":8,"n_rows":52,"n_cols":11,"rows_kept":52,"cut":false,"hidden":false,"merged":[]}
["Degrés jours",null,null,null,null,"Coefficients de conversion:",null,null,null,null,"Usage énergétique"]
[null,"15/15","16,5/16,5",{"$f":"IF(Encodage!$D$4=$B$2,B2,C2)","v":"16,5/16,5"},null,"Electricité","kWh",2.5,{"$f":"\"kWhp\"&\"/\"&G2","v":"kWhp/kWh"},null,"Chauffage"]
["réf",1913,2344,{"$f":"IF(Encodage!$D$4=$B$2,B3,C3)","v":2344},null,"gaz naturel","kWh",0.90300000000000002,"kWhp/kWh",null,"Eau chaude sanitaire (ECS)"]
[2009,1819.7,2212,{"$f":"IF(Encodage!$D$4=$B$2,B4,C4)","v":2212},null,"gasoil","litre",{"$f":"36500/3600","v":10.138888888888889},"kWhp/litre",null,"Cuisine"]
[2010,2309,2703,{"$f":"IF(Encodage!$D$4=$B$2,B5,C5)","v":2703},null,"propane","m³",6.5555555555555554,"kWhp/m³",null,"Ch + ECS"]
[2011,1514.5,1928,{"$f":"IF(Encodage!$D$4=$B$2,B6,C6)","v":1928},null,"colza","litre",10.744444444444444,"kWhp/litre",null,"Ch + cuisine"]
[2012,1914.7,2327,{"$f":"IF(Encodage!$D$4=$B$2,B7,C7)","v":2327},null,"pellets","kg",4,"kWhp/kg",null,"ECS + Cuisine"]
[2013,2137.6999999999998,2537,{"$f":"IF(Encodage!$D$4=$B$2,B8,C8)","v":2537},null,"Autres","kWh",1,"kWhp/kWh",null,"Ch + ECS + Cuisine"]
[2014,1424.1,1828,{"$f":"IF(Encodage!$D$4=$B$2,B9,C9)","v":1828},null,null,null,null,null,null,"cuisine collective"]
[2015,null,null,{"$f":"IF(Encodage!$D$4=$B$2,B10,C10)","v":0},null,null,null,null,null,null,"air-conditionné"]
[2016,null,null,{"$f":"IF(Encodage!$D$4=$B$2,B11,C11)","v":0},null,null,null,null,null,null,"chauffage électrique"]
[null,null,null,null,null,null,null,null,null,null,"piscine"]
["Consommation moyenne du secteur"]
[null,"Chauffage","Elec",null,"Rapport Normalisation"]
["A sélectionner dans la liste déroulante",0,0,"kWh/m²",1]
["Accueil de jour",0,0,"kWh/m²",1]
["Bureau",0,0,"kWh/m²",1]
["Centre d’insertion socio-professionnel",0,0,"kWh/m²",1]
["Crèche",0,0,"kWh/m²",1]
["École",0,0,"kWh/m²",1]
["Entreprise de travail adapté",0,0,"kWh/m²",1]
["Etablissement culturel",0,0,"kWh/m²",1]
["Etablissement sportif",0,0,"kWh/m²",1]
["Hébergement",0,0,"kWh/m²",0.85]
["Hôpitaux",0,0,"kWh/m²",0.85]
["autre",0,0,"kWh/m²",1]
[]
["Energies renouvelables"]
["A sélectionner dans la liste déroulante"]
["o   Biomasse sèche"]
["o   Biomasse humide"]
["o   Cogénération Biomasse"]
["o   Solaire photovoltaïque"]
["o   Solaire thermique"]
["o   Eolien"]
["o   Hydroélectricité"]
["o   Géothermie profonde comme utilisateur"]
["o   Pompe à Chaleur"]
[]
[]
[]
[]
["Hébergement"]
["Accueil de jour"]
["Bureau"]
["Crèche"]
["École"]
["Etablissement sportif"]
["Etablissement culturel"]
["Entreprise de travail adapté"]
["Centre d’insertion socio-professionnel"]
["autre"]

{"sheet":"JBV","index":9,"n_rows":12,"n_cols":9,"rows_kept":12,"cut":false,"hidden":true,"merged":[]}
[null,{"$f":"Encodage!A27","v":2013},{"$f":"Encodage!A42","v":2014},{"$f":"Encodage!A57","v":2015},{"$f":"D1+1","v":2016},{"$f":"E1+1","v":2017},{"$f":"F1+1","v":2018},{"$f":"G1+1","v":2019},{"$f":"H1+1","v":2020}]
["Elec Tot",{"$f":"Encodage!$S27","v":0},{"$f":"Encodage!S42","v":0},{"$f":"Encodage!S57","v":0},{"$f":"Encodage!$S72","v":0},{"$f":"Encodage!$S87","v":0},{"$f":"Encodage!$S102","v":0},{"$f":"Encodage!$S117","v":0},{"$f":"Encodage!$S132","v":0}]
["Elec heures pleines",{"$f":"Encodage!$G27","v":0},{"$f":"Encodage!G42","v":0},{"$f":"Encodage!G57","v":0},{"$f":"Encodage!$G72","v":0},{"$f":"Encodage!$G87","v":0},{"$f":"Encodage!$G102","v":0},{"$f":"Encodage!$G117","v":0},{"$f":"Encodage!$G132","v":0}]
["Elec heures creuses",{"$f":"Encodage!$H27","v":0},{"$f":"Encodage!H42","v":0},{"$f":"Encodage!H57","v":0},{"$f":"Encodage!$H72","v":0},{"$f":"Encodage!$H87","v":0},{"$f":"Encodage!$H102","v":0},{"$f":"Encodage!$H117","v":0},{"$f":"Encodage!$H132","v":0}]
["Consommation élect spécifique",{"$f":"Encodage!$U27","v":{"$error":"#DIV/0!"}},{"$f":"Encodage!U42","v":{"$error":"#DIV/0!"}},{"$f":"Encodage!U57","v":{"$error":"#DIV/0!"}},{"$f":"Encodage!$U72","v":{"$error":"#DIV/0!"}},{"$f":"Encodage!$U87","v":{"$error":"#DIV/0!"}},{"$f":"Encodage!$U102","v":{"$error":"#DIV/0!"}},{"$f":"Encodage!$U117","v":{"$error":"#DIV/0!"}},{"$f":"Encodage!$U132","v":{"$error":"#DIV/0!"}}]
[{"$f":"\"Consommation moyenne du secteur = \"&B6&\" kWh/m²\"","v":{"$error":"#N/A"}},{"$f":"VLOOKUP(Encodage!D5,Paramètres!$A$15:$D$26,3)","v":{"$error":"#N/A"}},{"$f":"$B$6","v":{"$error":"#N/A"}},{"$f":"$B$6","v":{"$error":"#N/A"}},{"$error":"#N/A"},{"$error":"#N/A"},{"$error":"#N/A"},{"$error":"#N/A"},{"$error":"#N/A"}]
["Consommation de combustibles",{"$f":"Encodage!$W27","v":0},{"$f":"Encodage!W42","v":0},{"$f":"Encodage!W57","v":0},{"$f":"Encodage!$W72","v":0},{"$f":"Encodage!$W87","v":0},{"$f":"Encodage!$W102","v":0},{"$f":"Encodage!$W117","v":0},{"$f":"Encodage!$W132","v":0}]
["Consommation de combustible normalisé",{"$f":"Encodage!$Y27","v":0},{"$f":"Encodage!$Y42","v":0},{"$f":"Encodage!$Y57","v":{"$error":"#DIV/0!"}},{"$f":"Encodage!$Y72","v":{"$error":"#DIV/0!"}},{"$f":"Encodage!$Y87","v":{"$error":"#DIV/0!"}},{"$f":"Encodage!$Y102","v":{"$error":"#DIV/0!"}},{"$f":"Encodage!$Y117","v":{"$error":"#DIV/0!"}},{"$f":"Encodage!$Y132","v":{"$error":"#DIV/0!"}}]
["Consommation combustible spécifique normalisée",{"$f":"Encodage!$AA27","v":{"$error":"#DIV/0!"}},{"$f":"Encodage!AA42","v":{"$error":"#DIV/0!"}},{"$f":"Encodage!AA57","v":{"$error":"#DIV/0!"}},{"$f":"Encodage!$AA72","v":{"$error":"#DIV/0!"}},{"$f":"Encodage!$AA87","v":{"$error":"#DIV/0!"}},{"$f":"Encodage!$AA102","v":{"$error":"#DIV/0!"}},{"$f":"Encodage!$AA117","v":{"$error":"#DIV/0!"}},{"$f":"Encodage!$AA132","v":{"$error":"#DIV/0!"}}]
[{"$f":"\"Consommation moyenne du secteur = \"&B10&\" kWh/m²\"","v":{"$error":"#N/A"}},{"$f":"VLOOKUP(Encodage!D5,Paramètres!$A$15:$D$26,2)","v":{"$error":"#N/A"}},{"$f":"$B$10","v":{"$error":"#N/A"}},{"$f":"$B$10","v":{"$error":"#N/A"}},{"$error":"#N/A"},{"$error":"#N/A"},{"$error":"#N/A"},{"$error":"#N/A"},{"$error":"#N/A"}]
[{"$f":"Paramètres!A1&Paramètres!D2","v":"Degrés jours16,5/16,5"},{"$f":"VLOOKUP(B1,Paramètres!$A$4:$D$15,4)","v":2537},{"$f":"VLOOKUP(C1,Paramètres!$A$4:$D$15,4)","v":1828},{"$f":"VLOOKUP(D1,Paramètres!$A$4:$D$15,4)","v":0},{"$f":"VLOOKUP(E1,Paramètres!$A$4:$D$15,4)","v":0},{"$f":"VLOOKUP(F1,Paramètres!$A$4:$D$15,4)","v":0},{"$f":"VLOOKUP(G1,Paramètres!$A$4:$D$15,4)","v":0},{"$f":"VLOOKUP(H1,Paramètres!$A$4:$D$15,4)","v":0},{"$f":"VLOOKUP(I1,Paramètres!$A$4:$D$15,4)","v":0}]
["Eau en m³",{"$f":"Encodage!$Q27","v":0},{"$f":"Encodage!Q42","v":0},{"$f":"Encodage!Q57","v":0},{"$f":"Encodage!$Q72","v":0},{"$f":"Encodage!$Q87","v":0},{"$f":"Encodage!$Q102","v":0},{"$f":"Encodage!$Q117","v":0},{"$f":"Encodage!$Q132","v":0}]